BEGIN:VCALENDAR
VERSION:2.0
PRODID:-//Richmond Christian School - ECPv6.15.13//NONSGML v1.0//EN
CALSCALE:GREGORIAN
METHOD:PUBLISH
X-ORIGINAL-URL:https://myrcs.ca
X-WR-CALDESC:Events for Richmond Christian School
REFRESH-INTERVAL;VALUE=DURATION:PT1H
X-Robots-Tag:noindex
X-PUBLISHED-TTL:PT1H
BEGIN:VTIMEZONE
TZID:America/Vancouver
BEGIN:DAYLIGHT
TZOFFSETFROM:-0800
TZOFFSETTO:-0700
TZNAME:PDT
DTSTART:20220313T100000
END:DAYLIGHT
BEGIN:STANDARD
TZOFFSETFROM:-0700
TZOFFSETTO:-0800
TZNAME:PST
DTSTART:20221106T090000
END:STANDARD
BEGIN:DAYLIGHT
TZOFFSETFROM:-0800
TZOFFSETTO:-0700
TZNAME:PDT
DTSTART:20230312T100000
END:DAYLIGHT
BEGIN:STANDARD
TZOFFSETFROM:-0700
TZOFFSETTO:-0800
TZNAME:PST
DTSTART:20231105T090000
END:STANDARD
BEGIN:DAYLIGHT
TZOFFSETFROM:-0800
TZOFFSETTO:-0700
TZNAME:PDT
DTSTART:20240310T100000
END:DAYLIGHT
BEGIN:STANDARD
TZOFFSETFROM:-0700
TZOFFSETTO:-0800
TZNAME:PST
DTSTART:20241103T090000
END:STANDARD
END:VTIMEZONE
BEGIN:VEVENT
DTSTART;VALUE=DATE:20230123
DTEND;VALUE=DATE:20230128
DTSTAMP:20260419T082047
CREATED:20220606T193537Z
LAST-MODIFIED:20220606T193537Z
UID:10001419-1674432000-1674863999@myrcs.ca
SUMMARY:EC: Dance Week
DESCRIPTION:
URL:https://myrcs.ca/event/ec-dance-week-4/
CATEGORIES:Elementary Campus
END:VEVENT
BEGIN:VEVENT
DTSTART;VALUE=DATE:20230124
DTEND;VALUE=DATE:20230125
DTSTAMP:20260419T082047
CREATED:20220601T172642Z
LAST-MODIFIED:20220601T172642Z
UID:10001392-1674518400-1674604799@myrcs.ca
SUMMARY:RCS 101
DESCRIPTION:
URL:https://myrcs.ca/event/rcs-101-8/
CATEGORIES:All Campus
END:VEVENT
BEGIN:VEVENT
DTSTART;VALUE=DATE:20230124
DTEND;VALUE=DATE:20230125
DTSTAMP:20260419T082047
CREATED:20220606T193814Z
LAST-MODIFIED:20230109T232711Z
UID:10001424-1674518400-1674604799@myrcs.ca
SUMMARY:SC: Literacy 10 (noon)
DESCRIPTION:
URL:https://myrcs.ca/event/sc-literacy-10-noon/
CATEGORIES:Secondary Campus
END:VEVENT
BEGIN:VEVENT
DTSTART;VALUE=DATE:20230124
DTEND;VALUE=DATE:20230125
DTSTAMP:20260419T082047
CREATED:20220916T170916Z
LAST-MODIFIED:20220916T170916Z
UID:10000940-1674518400-1674604799@myrcs.ca
SUMMARY:MC: G8  Mount Seymour
DESCRIPTION:
URL:https://myrcs.ca/event/mc-g8-mount-seymour/
CATEGORIES:Middle Campus
END:VEVENT
END:VCALENDAR