BEGIN:VCALENDAR
VERSION:2.0
PRODID:-//Richmond Christian School - ECPv6.15.13//NONSGML v1.0//EN
CALSCALE:GREGORIAN
METHOD:PUBLISH
X-WR-CALNAME:Richmond Christian School
X-ORIGINAL-URL:https://myrcs.ca
X-WR-CALDESC:Events for Richmond Christian School
REFRESH-INTERVAL;VALUE=DURATION:PT1H
X-Robots-Tag:noindex
X-PUBLISHED-TTL:PT1H
BEGIN:VTIMEZONE
TZID:America/Vancouver
BEGIN:DAYLIGHT
TZOFFSETFROM:-0800
TZOFFSETTO:-0700
TZNAME:PDT
DTSTART:20250309T100000
END:DAYLIGHT
BEGIN:STANDARD
TZOFFSETFROM:-0700
TZOFFSETTO:-0800
TZNAME:PST
DTSTART:20251102T090000
END:STANDARD
BEGIN:DAYLIGHT
TZOFFSETFROM:-0800
TZOFFSETTO:-0700
TZNAME:PDT
DTSTART:20260308T100000
END:DAYLIGHT
BEGIN:STANDARD
TZOFFSETFROM:-0700
TZOFFSETTO:-0800
TZNAME:PST
DTSTART:20261101T090000
END:STANDARD
BEGIN:DAYLIGHT
TZOFFSETFROM:-0800
TZOFFSETTO:-0700
TZNAME:PDT
DTSTART:20270314T100000
END:DAYLIGHT
BEGIN:STANDARD
TZOFFSETFROM:-0700
TZOFFSETTO:-0800
TZNAME:PST
DTSTART:20271107T090000
END:STANDARD
END:VTIMEZONE
BEGIN:VEVENT
DTSTART;VALUE=DATE:20260520
DTEND;VALUE=DATE:20260521
DTSTAMP:20260423T155830
CREATED:20250507T211902Z
LAST-MODIFIED:20250521T153905Z
UID:10001883-1779235200-1779321599@myrcs.ca
SUMMARY:MC: Move Up Day
DESCRIPTION:
URL:https://myrcs.ca/event/mc-move-up-day-gr-8s/
CATEGORIES:Middle Campus
END:VEVENT
BEGIN:VEVENT
DTSTART;VALUE=DATE:20260520
DTEND;VALUE=DATE:20260521
DTSTAMP:20260423T155830
CREATED:20250521T153956Z
LAST-MODIFIED:20250521T153956Z
UID:10001928-1779235200-1779321599@myrcs.ca
SUMMARY:SC: Move Up Day
DESCRIPTION:
URL:https://myrcs.ca/event/sc-move-up-day/
CATEGORIES:Secondary Campus
END:VEVENT
BEGIN:VEVENT
DTSTART;VALUE=DATE:20260520
DTEND;VALUE=DATE:20260521
DTSTAMP:20260423T155830
CREATED:20250613T003742Z
LAST-MODIFIED:20250613T003742Z
UID:10001962-1779235200-1779321599@myrcs.ca
SUMMARY:EC: Move Up Day
DESCRIPTION:
URL:https://myrcs.ca/event/ec-move-up-day/
CATEGORIES:Elementary Campus
END:VEVENT
END:VCALENDAR