BEGIN:VCALENDAR
VERSION:2.0
PRODID:-//Richmond Christian School - ECPv6.15.13//NONSGML v1.0//EN
CALSCALE:GREGORIAN
METHOD:PUBLISH
X-ORIGINAL-URL:https://myrcs.ca
X-WR-CALDESC:Events for Richmond Christian School
REFRESH-INTERVAL;VALUE=DURATION:PT1H
X-Robots-Tag:noindex
X-PUBLISHED-TTL:PT1H
BEGIN:VTIMEZONE
TZID:America/Vancouver
BEGIN:DAYLIGHT
TZOFFSETFROM:-0800
TZOFFSETTO:-0700
TZNAME:PDT
DTSTART:20230312T100000
END:DAYLIGHT
BEGIN:STANDARD
TZOFFSETFROM:-0700
TZOFFSETTO:-0800
TZNAME:PST
DTSTART:20231105T090000
END:STANDARD
BEGIN:DAYLIGHT
TZOFFSETFROM:-0800
TZOFFSETTO:-0700
TZNAME:PDT
DTSTART:20240310T100000
END:DAYLIGHT
BEGIN:STANDARD
TZOFFSETFROM:-0700
TZOFFSETTO:-0800
TZNAME:PST
DTSTART:20241103T090000
END:STANDARD
BEGIN:DAYLIGHT
TZOFFSETFROM:-0800
TZOFFSETTO:-0700
TZNAME:PDT
DTSTART:20250309T100000
END:DAYLIGHT
BEGIN:STANDARD
TZOFFSETFROM:-0700
TZOFFSETTO:-0800
TZNAME:PST
DTSTART:20251102T090000
END:STANDARD
END:VTIMEZONE
BEGIN:VEVENT
DTSTART;VALUE=DATE:20241217
DTEND;VALUE=DATE:20241218
DTSTAMP:20260423T072546
CREATED:20231214T194206Z
LAST-MODIFIED:20240304T183421Z
UID:10001686-1734393600-1734479999@myrcs.ca
SUMMARY:Last day of school
DESCRIPTION:
URL:https://myrcs.ca/event/last-day-of-school/
CATEGORIES:All Campus
END:VEVENT
BEGIN:VEVENT
DTSTART;VALUE=DATE:20241119
DTEND;VALUE=DATE:20241120
DTSTAMP:20260423T072546
CREATED:20240912T210211Z
LAST-MODIFIED:20240912T210211Z
UID:10001814-1731974400-1732060799@myrcs.ca
SUMMARY:Annual General Meeting
DESCRIPTION:
URL:https://myrcs.ca/event/annual-general-meeting/
CATEGORIES:All Campus
END:VEVENT
BEGIN:VEVENT
DTSTART;VALUE=DATE:20241111
DTEND;VALUE=DATE:20241112
DTSTAMP:20260423T072546
CREATED:20231214T194115Z
LAST-MODIFIED:20231214T194115Z
UID:10001685-1731283200-1731369599@myrcs.ca
SUMMARY:Remembrance Day (no school)
DESCRIPTION:
URL:https://myrcs.ca/event/remembrance-day-no-school/
CATEGORIES:All Campus
END:VEVENT
BEGIN:VEVENT
DTSTART;VALUE=DATE:20241107
DTEND;VALUE=DATE:20241109
DTSTAMP:20260423T072546
CREATED:20231214T194021Z
LAST-MODIFIED:20231214T194021Z
UID:10001684-1730937600-1731110399@myrcs.ca
SUMMARY:All Campus Pro-D (no school)
DESCRIPTION:
URL:https://myrcs.ca/event/all-campus-pro-d-no-school-2/
CATEGORIES:All Campus
END:VEVENT
BEGIN:VEVENT
DTSTART;VALUE=DATE:20241017
DTEND;VALUE=DATE:20241018
DTSTAMP:20260423T072546
CREATED:20240306T224328Z
LAST-MODIFIED:20240306T224328Z
UID:10001719-1729123200-1729209599@myrcs.ca
SUMMARY:All Campus: Shake Out BC
DESCRIPTION:
URL:https://myrcs.ca/event/all-campus-shake-out-bc/
CATEGORIES:All Campus
END:VEVENT
BEGIN:VEVENT
DTSTART;VALUE=DATE:20241014
DTEND;VALUE=DATE:20241015
DTSTAMP:20260423T072546
CREATED:20231214T193947Z
LAST-MODIFIED:20231214T193947Z
UID:10001683-1728864000-1728950399@myrcs.ca
SUMMARY:Thanksgiving (no school)
DESCRIPTION:
URL:https://myrcs.ca/event/thanksgiving-no-school/
CATEGORIES:All Campus
END:VEVENT
BEGIN:VEVENT
DTSTART;VALUE=DATE:20241011
DTEND;VALUE=DATE:20241012
DTSTAMP:20260423T072546
CREATED:20231214T193726Z
LAST-MODIFIED:20240306T224204Z
UID:10001682-1728604800-1728691199@myrcs.ca
SUMMARY:All Campus: Pro-D (no school)
DESCRIPTION:
URL:https://myrcs.ca/event/all-campus-pro-d-no-school/
CATEGORIES:All Campus
END:VEVENT
BEGIN:VEVENT
DTSTART;VALUE=DATE:20241002
DTEND;VALUE=DATE:20241003
DTSTAMP:20260423T072546
CREATED:20240306T223720Z
LAST-MODIFIED:20240306T223720Z
UID:10001718-1727827200-1727913599@myrcs.ca
SUMMARY:RCS 101
DESCRIPTION:
URL:https://myrcs.ca/event/rcs-101/
CATEGORIES:All Campus
END:VEVENT
BEGIN:VEVENT
DTSTART;VALUE=DATE:20240930
DTEND;VALUE=DATE:20241001
DTSTAMP:20260423T072546
CREATED:20231214T193630Z
LAST-MODIFIED:20231214T193630Z
UID:10001681-1727654400-1727740799@myrcs.ca
SUMMARY:Truth and Reconciliation Day (no school)
DESCRIPTION:
URL:https://myrcs.ca/event/truth-and-reconciliation-day-no-school-3/
CATEGORIES:All Campus
END:VEVENT
BEGIN:VEVENT
DTSTART;VALUE=DATE:20240927
DTEND;VALUE=DATE:20240928
DTSTAMP:20260423T072546
CREATED:20240306T223617Z
LAST-MODIFIED:20240306T223617Z
UID:10001717-1727395200-1727481599@myrcs.ca
SUMMARY:All Campus: Orange Shirt Day
DESCRIPTION:
URL:https://myrcs.ca/event/all-campus-orange-shirt-day/
CATEGORIES:All Campus
END:VEVENT
BEGIN:VEVENT
DTSTART;VALUE=DATE:20240923
DTEND;VALUE=DATE:20240928
DTSTAMP:20260423T072546
CREATED:20240306T223533Z
LAST-MODIFIED:20240306T223533Z
UID:10001716-1727049600-1727481599@myrcs.ca
SUMMARY:All Campus: Truth and Reconciliation Week
DESCRIPTION:
URL:https://myrcs.ca/event/all-campus-truth-and-reconciliation-week/
CATEGORIES:All Campus
END:VEVENT
BEGIN:VEVENT
DTSTART;VALUE=DATE:20240903
DTEND;VALUE=DATE:20240904
DTSTAMP:20260423T072546
CREATED:20231214T193529Z
LAST-MODIFIED:20231214T193529Z
UID:10001680-1725321600-1725407999@myrcs.ca
SUMMARY:Back to School
DESCRIPTION:
URL:https://myrcs.ca/event/back-to-school/
CATEGORIES:All Campus
END:VEVENT
BEGIN:VEVENT
DTSTART;VALUE=DATE:20240902
DTEND;VALUE=DATE:20240903
DTSTAMP:20260423T072546
CREATED:20231214T193430Z
LAST-MODIFIED:20231214T193430Z
UID:10001679-1725235200-1725321599@myrcs.ca
SUMMARY:Labour Day (no school)
DESCRIPTION:
URL:https://myrcs.ca/event/labour-day-no-school/
CATEGORIES:All Campus
END:VEVENT
BEGIN:VEVENT
DTSTART;VALUE=DATE:20240828
DTEND;VALUE=DATE:20240829
DTSTAMP:20260423T072546
CREATED:20240306T221426Z
LAST-MODIFIED:20240306T221426Z
UID:10001703-1724803200-1724889599@myrcs.ca
SUMMARY:Back to School BBQ
DESCRIPTION:
URL:https://myrcs.ca/event/back-to-school-bbq/
CATEGORIES:All Campus
END:VEVENT
BEGIN:VEVENT
DTSTART;VALUE=DATE:20240826
DTEND;VALUE=DATE:20240831
DTSTAMP:20260423T072546
CREATED:20231214T193343Z
LAST-MODIFIED:20231214T193343Z
UID:10001678-1724630400-1725062399@myrcs.ca
SUMMARY:Educational Staff Work Week
DESCRIPTION:
URL:https://myrcs.ca/event/educational-staff-work-week/
CATEGORIES:All Campus
END:VEVENT
BEGIN:VEVENT
DTSTART;VALUE=DATE:20240826
DTEND;VALUE=DATE:20240827
DTSTAMP:20260423T072546
CREATED:20240306T221350Z
LAST-MODIFIED:20240306T221649Z
UID:10001702-1724630400-1724716799@myrcs.ca
SUMMARY:All Staff Gathering
DESCRIPTION:
URL:https://myrcs.ca/event/all-staff-gathering/
CATEGORIES:All Campus
END:VEVENT
BEGIN:VEVENT
DTSTART;VALUE=DATE:20240822
DTEND;VALUE=DATE:20240823
DTSTAMP:20260423T072546
CREATED:20240306T221317Z
LAST-MODIFIED:20240812T193153Z
UID:10001701-1724284800-1724371199@myrcs.ca
SUMMARY:New Staff Orientation
DESCRIPTION:
URL:https://myrcs.ca/event/new-staff-orientation/
CATEGORIES:All Campus
END:VEVENT
BEGIN:VEVENT
DTSTART;VALUE=DATE:20240819
DTEND;VALUE=DATE:20240824
DTSTAMP:20260423T072546
CREATED:20231214T193129Z
LAST-MODIFIED:20231214T193129Z
UID:10001677-1724025600-1724457599@myrcs.ca
SUMMARY:Leadership Team Planning Week
DESCRIPTION:
URL:https://myrcs.ca/event/leadership-team-planning-week-2/
CATEGORIES:All Campus
END:VEVENT
BEGIN:VEVENT
DTSTART;VALUE=DATE:20240628
DTEND;VALUE=DATE:20240629
DTSTAMP:20260423T072546
CREATED:20230619T200425Z
LAST-MODIFIED:20230619T200450Z
UID:10001637-1719532800-1719619199@myrcs.ca
SUMMARY:All Campus: Report Cards Published at Noon
DESCRIPTION:
URL:https://myrcs.ca/event/all-campus-report-cards-published-at-noon/
CATEGORIES:All Campus
END:VEVENT
BEGIN:VEVENT
DTSTART;VALUE=DATE:20240617
DTEND;VALUE=DATE:20240618
DTSTAMP:20260423T072546
CREATED:20230501T194930Z
LAST-MODIFIED:20230501T195745Z
UID:10001531-1718582400-1718668799@myrcs.ca
SUMMARY:BOARD MEETING
DESCRIPTION:
URL:https://myrcs.ca/event/board-meeting-66/
CATEGORIES:All Campus
END:VEVENT
BEGIN:VEVENT
DTSTART;VALUE=DATE:20240611
DTEND;VALUE=DATE:20240612
DTSTAMP:20260423T072546
CREATED:20230501T195059Z
LAST-MODIFIED:20230501T195059Z
UID:10001533-1718064000-1718150399@myrcs.ca
SUMMARY:Spring General Meeting
DESCRIPTION:
URL:https://myrcs.ca/event/spring-general-meeting-4/
CATEGORIES:All Campus
END:VEVENT
BEGIN:VEVENT
DTSTART;VALUE=DATE:20240605
DTEND;VALUE=DATE:20240606
DTSTAMP:20260423T072546
CREATED:20230501T200626Z
LAST-MODIFIED:20230509T170346Z
UID:10001538-1717545600-1717631999@myrcs.ca
SUMMARY:FARM MEETING
DESCRIPTION:
URL:https://myrcs.ca/event/farm-meeting-5/
CATEGORIES:All Campus
END:VEVENT
BEGIN:VEVENT
DTSTART;VALUE=DATE:20240531
DTEND;VALUE=DATE:20240601
DTSTAMP:20260423T072546
CREATED:20231108T174432Z
LAST-MODIFIED:20231108T174432Z
UID:10001674-1717113600-1717199999@myrcs.ca
SUMMARY:RCS Musical "Into the Woods"
DESCRIPTION:
URL:https://myrcs.ca/event/rcs-musical-into-the-woods-2/
CATEGORIES:All Campus
END:VEVENT
BEGIN:VEVENT
DTSTART;VALUE=DATE:20240530
DTEND;VALUE=DATE:20240531
DTSTAMP:20260423T072546
CREATED:20231108T174309Z
LAST-MODIFIED:20231108T174309Z
UID:10001673-1717027200-1717113599@myrcs.ca
SUMMARY:RCS Musical "Into the Woods"
DESCRIPTION:
URL:https://myrcs.ca/event/rcs-musical-into-the-woods/
CATEGORIES:All Campus
END:VEVENT
BEGIN:VEVENT
DTSTART;VALUE=DATE:20240529
DTEND;VALUE=DATE:20240530
DTSTAMP:20260423T072546
CREATED:20231108T174207Z
LAST-MODIFIED:20231108T174348Z
UID:10001672-1716940800-1717027199@myrcs.ca
SUMMARY:RCS Musical "Into the Woods"
DESCRIPTION:
URL:https://myrcs.ca/event/sc-musical-into-the-woods/
CATEGORIES:All Campus
END:VEVENT
BEGIN:VEVENT
DTSTART;VALUE=DATE:20240527
DTEND;VALUE=DATE:20240528
DTSTAMP:20260423T072546
CREATED:20230501T194905Z
LAST-MODIFIED:20230501T194905Z
UID:10001530-1716768000-1716854399@myrcs.ca
SUMMARY:BOARD MEETING
DESCRIPTION:
URL:https://myrcs.ca/event/board-meeting-65/
CATEGORIES:All Campus
END:VEVENT
BEGIN:VEVENT
DTSTART;VALUE=DATE:20240522
DTEND;VALUE=DATE:20240523
DTSTAMP:20260423T072546
CREATED:20231115T220502Z
LAST-MODIFIED:20240202T224055Z
UID:10001676-1716336000-1716422399@myrcs.ca
SUMMARY:Move Up Day
DESCRIPTION:
URL:https://myrcs.ca/event/mc-grade-8-move-up-day/
CATEGORIES:All Campus
END:VEVENT
BEGIN:VEVENT
DTSTART;VALUE=DATE:20240521
DTEND;VALUE=DATE:20240522
DTSTAMP:20260423T072546
CREATED:20230619T194446Z
LAST-MODIFIED:20240513T161215Z
UID:10001624-1716249600-1716335999@myrcs.ca
SUMMARY:Volunteer Appreciation Lunch
DESCRIPTION:  \n 
URL:https://myrcs.ca/event/volunteer-appreciation-lunch-3/
CATEGORIES:All Campus
END:VEVENT
BEGIN:VEVENT
DTSTART;VALUE=DATE:20240520
DTEND;VALUE=DATE:20240521
DTSTAMP:20260423T072546
CREATED:20230113T221350Z
LAST-MODIFIED:20230113T221436Z
UID:10001475-1716163200-1716249599@myrcs.ca
SUMMARY:Victoria Day
DESCRIPTION:
URL:https://myrcs.ca/event/victoria-day-3/
CATEGORIES:All Campus
END:VEVENT
BEGIN:VEVENT
DTSTART;VALUE=DATE:20240517
DTEND;VALUE=DATE:20240518
DTSTAMP:20260423T072546
CREATED:20230209T184918Z
LAST-MODIFIED:20230209T184918Z
UID:10001496-1715904000-1715990399@myrcs.ca
SUMMARY:All Campus: Pro-D Day (no classes)
DESCRIPTION:
URL:https://myrcs.ca/event/all-campus-pro-d-day-no-classes-2/
CATEGORIES:All Campus
END:VEVENT
END:VCALENDAR