BEGIN:VCALENDAR
VERSION:2.0
PRODID:-//Richmond Christian School - ECPv6.15.13//NONSGML v1.0//EN
CALSCALE:GREGORIAN
METHOD:PUBLISH
X-ORIGINAL-URL:https://myrcs.ca
X-WR-CALDESC:Events for Richmond Christian School
REFRESH-INTERVAL;VALUE=DURATION:PT1H
X-Robots-Tag:noindex
X-PUBLISHED-TTL:PT1H
BEGIN:VTIMEZONE
TZID:America/Vancouver
BEGIN:DAYLIGHT
TZOFFSETFROM:-0800
TZOFFSETTO:-0700
TZNAME:PDT
DTSTART:20220313T100000
END:DAYLIGHT
BEGIN:STANDARD
TZOFFSETFROM:-0700
TZOFFSETTO:-0800
TZNAME:PST
DTSTART:20221106T090000
END:STANDARD
BEGIN:DAYLIGHT
TZOFFSETFROM:-0800
TZOFFSETTO:-0700
TZNAME:PDT
DTSTART:20230312T100000
END:DAYLIGHT
BEGIN:STANDARD
TZOFFSETFROM:-0700
TZOFFSETTO:-0800
TZNAME:PST
DTSTART:20231105T090000
END:STANDARD
BEGIN:DAYLIGHT
TZOFFSETFROM:-0800
TZOFFSETTO:-0700
TZNAME:PDT
DTSTART:20240310T100000
END:DAYLIGHT
BEGIN:STANDARD
TZOFFSETFROM:-0700
TZOFFSETTO:-0800
TZNAME:PST
DTSTART:20241103T090000
END:STANDARD
BEGIN:DAYLIGHT
TZOFFSETFROM:-0800
TZOFFSETTO:-0700
TZNAME:PDT
DTSTART:20250309T100000
END:DAYLIGHT
BEGIN:STANDARD
TZOFFSETFROM:-0700
TZOFFSETTO:-0800
TZNAME:PST
DTSTART:20251102T090000
END:STANDARD
END:VTIMEZONE
BEGIN:VEVENT
DTSTART;VALUE=DATE:20240219
DTEND;VALUE=DATE:20240220
DTSTAMP:20260423T101146
CREATED:20230113T221123Z
LAST-MODIFIED:20230210T213230Z
UID:10001478-1708300800-1708387199@myrcs.ca
SUMMARY:Family Day (no school)
DESCRIPTION:
URL:https://myrcs.ca/event/family-day-2/
CATEGORIES:All Campus
END:VEVENT
BEGIN:VEVENT
DTSTART;VALUE=DATE:20240129
DTEND;VALUE=DATE:20240130
DTSTAMP:20260423T101146
CREATED:20230501T194638Z
LAST-MODIFIED:20230509T170625Z
UID:10001527-1706486400-1706572799@myrcs.ca
SUMMARY:BOARD MEETING
DESCRIPTION:
URL:https://myrcs.ca/event/board-meeting-62/
CATEGORIES:All Campus
END:VEVENT
BEGIN:VEVENT
DTSTART;VALUE=DATE:20240123
DTEND;VALUE=DATE:20240124
DTSTAMP:20260423T101146
CREATED:20230501T195200Z
LAST-MODIFIED:20230501T200020Z
UID:10001535-1705968000-1706054399@myrcs.ca
SUMMARY:RCS 101
DESCRIPTION:
URL:https://myrcs.ca/event/rcs-101-10/
CATEGORIES:All Campus
END:VEVENT
BEGIN:VEVENT
DTSTART;VALUE=DATE:20240117
DTEND;VALUE=DATE:20240118
DTSTAMP:20260423T101146
CREATED:20230501T200532Z
LAST-MODIFIED:20230509T170453Z
UID:10001536-1705449600-1705535999@myrcs.ca
SUMMARY:FARM MEETING
DESCRIPTION:
URL:https://myrcs.ca/event/farm-meeting-3/
CATEGORIES:All Campus
END:VEVENT
BEGIN:VEVENT
DTSTART;VALUE=DATE:20240109
DTEND;VALUE=DATE:20240110
DTSTAMP:20260423T101146
CREATED:20230619T185229Z
LAST-MODIFIED:20230619T185229Z
UID:10001593-1704758400-1704844799@myrcs.ca
SUMMARY:Current Families Registration Due
DESCRIPTION:
URL:https://myrcs.ca/event/current-families-registration-due-2/
CATEGORIES:All Campus
END:VEVENT
BEGIN:VEVENT
DTSTART;VALUE=DATE:20240108
DTEND;VALUE=DATE:20240109
DTSTAMP:20260423T101146
CREATED:20230113T222358Z
LAST-MODIFIED:20230113T222358Z
UID:10001452-1704672000-1704758399@myrcs.ca
SUMMARY:First day back after Christmas Break
DESCRIPTION:
URL:https://myrcs.ca/event/first-day-back-after-christmas-break/
CATEGORIES:All Campus
END:VEVENT
BEGIN:VEVENT
DTSTART;VALUE=DATE:20240101
DTEND;VALUE=DATE:20240106
DTSTAMP:20260423T101146
CREATED:20230113T222103Z
LAST-MODIFIED:20230113T222103Z
UID:10001473-1704067200-1704499199@myrcs.ca
SUMMARY:Christmas Break
DESCRIPTION:
URL:https://myrcs.ca/event/christmas-break-10/
CATEGORIES:All Campus
END:VEVENT
BEGIN:VEVENT
DTSTART;VALUE=DATE:20231225
DTEND;VALUE=DATE:20231230
DTSTAMP:20260423T101146
CREATED:20230113T222237Z
LAST-MODIFIED:20230113T222237Z
UID:10001480-1703462400-1703894399@myrcs.ca
SUMMARY:Christmas Break
DESCRIPTION:
URL:https://myrcs.ca/event/christmas-break-11/
CATEGORIES:All Campus
END:VEVENT
BEGIN:VEVENT
DTSTART;VALUE=DATE:20231218
DTEND;VALUE=DATE:20231223
DTSTAMP:20260423T101146
CREATED:20221216T182959Z
LAST-MODIFIED:20230113T221937Z
UID:10001467-1702857600-1703289599@myrcs.ca
SUMMARY:Christmas Break
DESCRIPTION:
URL:https://myrcs.ca/event/christmas-break-9/
CATEGORIES:All Campus
END:VEVENT
BEGIN:VEVENT
DTSTART;VALUE=DATE:20231215
DTEND;VALUE=DATE:20231216
DTSTAMP:20260423T101146
CREATED:20230209T183439Z
LAST-MODIFIED:20230209T183444Z
UID:10001489-1702598400-1702684799@myrcs.ca
SUMMARY:Last Day of School
DESCRIPTION:
URL:https://myrcs.ca/event/last-day-of-school-2/
CATEGORIES:All Campus
END:VEVENT
BEGIN:VEVENT
DTSTART;VALUE=DATE:20231120
DTEND;VALUE=DATE:20231121
DTSTAMP:20260423T101146
CREATED:20230501T194558Z
LAST-MODIFIED:20230501T194558Z
UID:10001526-1700438400-1700524799@myrcs.ca
SUMMARY:BOARD MEETING
DESCRIPTION:
URL:https://myrcs.ca/event/board-meeting-61/
CATEGORIES:All Campus
END:VEVENT
BEGIN:VEVENT
DTSTART;VALUE=DATE:20231114
DTEND;VALUE=DATE:20231115
DTSTAMP:20260423T101146
CREATED:20230501T195026Z
LAST-MODIFIED:20230501T195026Z
UID:10001532-1699920000-1700006399@myrcs.ca
SUMMARY:Annual General Meeting
DESCRIPTION:
URL:https://myrcs.ca/event/annual-general-meeting-6/
CATEGORIES:All Campus
END:VEVENT
BEGIN:VEVENT
DTSTART;VALUE=DATE:20231113
DTEND;VALUE=DATE:20231114
DTSTAMP:20260423T101146
CREATED:20230113T220857Z
LAST-MODIFIED:20230113T221641Z
UID:10001476-1699833600-1699919999@myrcs.ca
SUMMARY:Remembrance Day (observed)
DESCRIPTION:
URL:https://myrcs.ca/event/remembrance-day-observed/
CATEGORIES:All Campus
END:VEVENT
BEGIN:VEVENT
DTSTART;VALUE=DATE:20231110
DTEND;VALUE=DATE:20231111
DTSTAMP:20260423T101146
CREATED:20230501T160149Z
LAST-MODIFIED:20230501T160149Z
UID:10001519-1699574400-1699660799@myrcs.ca
SUMMARY:Pro-D Day (no classes)
DESCRIPTION:
URL:https://myrcs.ca/event/pro-d-day-no-classes-10/
CATEGORIES:All Campus
END:VEVENT
BEGIN:VEVENT
DTSTART;VALUE=DATE:20231109
DTEND;VALUE=DATE:20231110
DTSTAMP:20260423T101146
CREATED:20230209T183200Z
LAST-MODIFIED:20230501T160121Z
UID:10001488-1699488000-1699574399@myrcs.ca
SUMMARY:Pro-D Day (no classes)
DESCRIPTION:
URL:https://myrcs.ca/event/pro-d-day-no-classes-9/
CATEGORIES:All Campus
END:VEVENT
BEGIN:VEVENT
DTSTART;VALUE=DATE:20231023
DTEND;VALUE=DATE:20231024
DTSTAMP:20260423T101146
CREATED:20230501T194534Z
LAST-MODIFIED:20230501T194534Z
UID:10001525-1698019200-1698105599@myrcs.ca
SUMMARY:BOARD MEETING
DESCRIPTION:
URL:https://myrcs.ca/event/board-meeting-60/
CATEGORIES:All Campus
END:VEVENT
BEGIN:VEVENT
DTSTART;VALUE=DATE:20231019
DTEND;VALUE=DATE:20231020
DTSTAMP:20260423T101146
CREATED:20230619T181835Z
LAST-MODIFIED:20230619T181835Z
UID:10001573-1697673600-1697759999@myrcs.ca
SUMMARY:Shake Out BC 10:19am
DESCRIPTION:
URL:https://myrcs.ca/event/shake-out-bc-1019am/
CATEGORIES:All Campus
END:VEVENT
BEGIN:VEVENT
DTSTART;VALUE=DATE:20231018
DTEND;VALUE=DATE:20231019
DTSTAMP:20260423T101146
CREATED:20230509T170546Z
LAST-MODIFIED:20230509T170546Z
UID:10001539-1697587200-1697673599@myrcs.ca
SUMMARY:FARM MEETING
DESCRIPTION:
URL:https://myrcs.ca/event/farm-meeting-6/
CATEGORIES:All Campus
END:VEVENT
BEGIN:VEVENT
DTSTART;VALUE=DATE:20231009
DTEND;VALUE=DATE:20231010
DTSTAMP:20260423T101146
CREATED:20230113T220826Z
LAST-MODIFIED:20230113T220826Z
UID:10001474-1696809600-1696895999@myrcs.ca
SUMMARY:Thanksgiving
DESCRIPTION:
URL:https://myrcs.ca/event/thanksgiving/
CATEGORIES:All Campus
END:VEVENT
BEGIN:VEVENT
DTSTART;VALUE=DATE:20231004
DTEND;VALUE=DATE:20231005
DTSTAMP:20260423T101146
CREATED:20230920T185024Z
LAST-MODIFIED:20230920T185225Z
UID:10001654-1696377600-1696463999@myrcs.ca
SUMMARY:Parent Session
DESCRIPTION:6:30pm – 8:30pm in the SC Gymnasium. Social Media Awareness\, Digital Citizenship\, and Cyberbullying for parents/caregivers of school-age children. Free event. \n  \n 
URL:https://myrcs.ca/event/parent-session-sc-gymnasium/
CATEGORIES:All Campus
END:VEVENT
BEGIN:VEVENT
DTSTART;VALUE=DATE:20231004
DTEND;VALUE=DATE:20231005
DTSTAMP:20260423T101146
CREATED:20230501T195128Z
LAST-MODIFIED:20230501T195922Z
UID:10001534-1696377600-1696463999@myrcs.ca
SUMMARY:RCS 101
DESCRIPTION:
URL:https://myrcs.ca/event/rcs-101-9/
CATEGORIES:All Campus
END:VEVENT
BEGIN:VEVENT
DTSTART;VALUE=DATE:20231002
DTEND;VALUE=DATE:20231003
DTSTAMP:20260423T101146
CREATED:20230209T183058Z
LAST-MODIFIED:20230221T232028Z
UID:10001487-1696204800-1696291199@myrcs.ca
SUMMARY:Truth and Reconciliation Day (no school)
DESCRIPTION:
URL:https://myrcs.ca/event/truth-and-reconciliation-day-no-school-2/
CATEGORIES:All Campus
END:VEVENT
BEGIN:VEVENT
DTSTART;VALUE=DATE:20230929
DTEND;VALUE=DATE:20230930
DTSTAMP:20260423T101146
CREATED:20230619T181016Z
LAST-MODIFIED:20230619T181016Z
UID:10001566-1695945600-1696031999@myrcs.ca
SUMMARY:Orange Shirt Day
DESCRIPTION:
URL:https://myrcs.ca/event/orange-shirt-day-2/
CATEGORIES:All Campus
END:VEVENT
BEGIN:VEVENT
DTSTART;VALUE=DATE:20230925
DTEND;VALUE=DATE:20230926
DTSTAMP:20260423T101146
CREATED:20230501T194445Z
LAST-MODIFIED:20230501T194445Z
UID:10001524-1695600000-1695686399@myrcs.ca
SUMMARY:BOARD MEETING
DESCRIPTION:
URL:https://myrcs.ca/event/board-meeting-59/
CATEGORIES:All Campus
END:VEVENT
BEGIN:VEVENT
DTSTART;VALUE=DATE:20230905
DTEND;VALUE=DATE:20230906
DTSTAMP:20260423T101146
CREATED:20230113T220738Z
LAST-MODIFIED:20230209T182958Z
UID:10001472-1693872000-1693958399@myrcs.ca
SUMMARY:First Day Back to School
DESCRIPTION:
URL:https://myrcs.ca/event/back-to-school-8/
CATEGORIES:All Campus
END:VEVENT
BEGIN:VEVENT
DTSTART;VALUE=DATE:20230904
DTEND;VALUE=DATE:20230905
DTSTAMP:20260423T101146
CREATED:20230209T182807Z
LAST-MODIFIED:20230209T182807Z
UID:10001486-1693785600-1693871999@myrcs.ca
SUMMARY:Labour Day (no school)
DESCRIPTION:
URL:https://myrcs.ca/event/labour-day-no-school-5/
CATEGORIES:All Campus
END:VEVENT
BEGIN:VEVENT
DTSTART;VALUE=DATE:20230830
DTEND;VALUE=DATE:20230831
DTSTAMP:20260423T101146
CREATED:20230209T182716Z
LAST-MODIFIED:20230822T151903Z
UID:10001485-1693353600-1693439999@myrcs.ca
SUMMARY:Back to School BBQ 5-7pm Middle Campus
DESCRIPTION:
URL:https://myrcs.ca/event/back-to-school-bbq-7/
CATEGORIES:All Campus
END:VEVENT
BEGIN:VEVENT
DTSTART;VALUE=DATE:20230828
DTEND;VALUE=DATE:20230902
DTSTAMP:20260423T101146
CREATED:20230421T214212Z
LAST-MODIFIED:20230421T214212Z
UID:10001517-1693180800-1693612799@myrcs.ca
SUMMARY:Staff Work Week
DESCRIPTION:
URL:https://myrcs.ca/event/staff-work-week-4/
CATEGORIES:All Campus
END:VEVENT
BEGIN:VEVENT
DTSTART;VALUE=DATE:20230821
DTEND;VALUE=DATE:20230826
DTSTAMP:20260423T101146
CREATED:20230421T214309Z
LAST-MODIFIED:20230421T214309Z
UID:10001518-1692576000-1693007999@myrcs.ca
SUMMARY:Leadership Team Planning Week
DESCRIPTION:
URL:https://myrcs.ca/event/leadership-team-planning-week/
CATEGORIES:All Campus
END:VEVENT
BEGIN:VEVENT
DTSTART;VALUE=DATE:20230628
DTEND;VALUE=DATE:20230629
DTSTAMP:20260423T101146
CREATED:20220606T210013Z
LAST-MODIFIED:20221004T182515Z
UID:10001453-1687910400-1687996799@myrcs.ca
SUMMARY:All Campus: Report Cards Published at Noon
DESCRIPTION:
URL:https://myrcs.ca/event/all-campus-report-cards-published-3pm/
CATEGORIES:All Campus
END:VEVENT
END:VCALENDAR