BEGIN:VCALENDAR
VERSION:2.0
PRODID:-//Richmond Christian School - ECPv6.15.13//NONSGML v1.0//EN
CALSCALE:GREGORIAN
METHOD:PUBLISH
X-ORIGINAL-URL:https://myrcs.ca
X-WR-CALDESC:Events for Richmond Christian School
REFRESH-INTERVAL;VALUE=DURATION:PT1H
X-Robots-Tag:noindex
X-PUBLISHED-TTL:PT1H
BEGIN:VTIMEZONE
TZID:America/Vancouver
BEGIN:DAYLIGHT
TZOFFSETFROM:-0800
TZOFFSETTO:-0700
TZNAME:PDT
DTSTART:20230312T100000
END:DAYLIGHT
BEGIN:STANDARD
TZOFFSETFROM:-0700
TZOFFSETTO:-0800
TZNAME:PST
DTSTART:20231105T090000
END:STANDARD
BEGIN:DAYLIGHT
TZOFFSETFROM:-0800
TZOFFSETTO:-0700
TZNAME:PDT
DTSTART:20240310T100000
END:DAYLIGHT
BEGIN:STANDARD
TZOFFSETFROM:-0700
TZOFFSETTO:-0800
TZNAME:PST
DTSTART:20241103T090000
END:STANDARD
BEGIN:DAYLIGHT
TZOFFSETFROM:-0800
TZOFFSETTO:-0700
TZNAME:PDT
DTSTART:20250309T100000
END:DAYLIGHT
BEGIN:STANDARD
TZOFFSETFROM:-0700
TZOFFSETTO:-0800
TZNAME:PST
DTSTART:20251102T090000
END:STANDARD
BEGIN:DAYLIGHT
TZOFFSETFROM:-0800
TZOFFSETTO:-0700
TZNAME:PDT
DTSTART:20260308T100000
END:DAYLIGHT
BEGIN:STANDARD
TZOFFSETFROM:-0700
TZOFFSETTO:-0800
TZNAME:PST
DTSTART:20261101T090000
END:STANDARD
END:VTIMEZONE
BEGIN:VEVENT
DTSTART;VALUE=DATE:20250423
DTEND;VALUE=DATE:20250424
DTSTAMP:20260420T183045
CREATED:20240307T000309Z
LAST-MODIFIED:20240404T155658Z
UID:10001774-1745366400-1745452799@myrcs.ca
SUMMARY:MC: Grandparents Day
DESCRIPTION:
URL:https://myrcs.ca/event/mc-grandparents-day/
CATEGORIES:Middle Campus
END:VEVENT
BEGIN:VEVENT
DTSTART;VALUE=DATE:20250401
DTEND;VALUE=DATE:20250404
DTSTAMP:20260420T183045
CREATED:20250218T113654Z
LAST-MODIFIED:20250218T113654Z
UID:10001825-1743465600-1743724799@myrcs.ca
SUMMARY:MC: Timberline Ranch
DESCRIPTION:
URL:https://myrcs.ca/event/mc-timberline-ranch/
CATEGORIES:Middle Campus
END:VEVENT
BEGIN:VEVENT
DTSTART;VALUE=DATE:20250314
DTEND;VALUE=DATE:20250315
DTSTAMP:20260420T183045
CREATED:20240306T235801Z
LAST-MODIFIED:20240306T235846Z
UID:10001768-1741910400-1741996799@myrcs.ca
SUMMARY:MC: Term 2 Reports published at 3pm
DESCRIPTION:
URL:https://myrcs.ca/event/mc-term-2-reports-published-at-3pm/
CATEGORIES:Middle Campus
END:VEVENT
BEGIN:VEVENT
DTSTART;VALUE=DATE:20250312
DTEND;VALUE=DATE:20250314
DTSTAMP:20260420T183045
CREATED:20240306T235634Z
LAST-MODIFIED:20260324T172104Z
UID:10001766-1741737600-1741910399@myrcs.ca
SUMMARY:MC: Musical - Beauty and the Beast Jr.
DESCRIPTION:
URL:https://myrcs.ca/event/mc-musical/
CATEGORIES:Middle Campus
END:VEVENT
BEGIN:VEVENT
DTSTART;VALUE=DATE:20250310
DTEND;VALUE=DATE:20250311
DTSTAMP:20260420T183045
CREATED:20240306T235555Z
LAST-MODIFIED:20240306T235555Z
UID:10001765-1741564800-1741651199@myrcs.ca
SUMMARY:MC: Term 3 begins
DESCRIPTION:
URL:https://myrcs.ca/event/mc-term-3-begins/
CATEGORIES:Middle Campus
END:VEVENT
BEGIN:VEVENT
DTSTART;VALUE=DATE:20250307
DTEND;VALUE=DATE:20250308
DTSTAMP:20260420T183045
CREATED:20240306T235430Z
LAST-MODIFIED:20240306T235430Z
UID:10001763-1741305600-1741391999@myrcs.ca
SUMMARY:MC: Term 2 ends
DESCRIPTION:
URL:https://myrcs.ca/event/mc-term-2-ends-4/
CATEGORIES:Middle Campus
END:VEVENT
BEGIN:VEVENT
DTSTART;VALUE=DATE:20250306
DTEND;VALUE=DATE:20250307
DTSTAMP:20260420T183045
CREATED:20250218T102439Z
LAST-MODIFIED:20250218T103929Z
UID:10001820-1741219200-1741305599@myrcs.ca
SUMMARY:MC: Class Photos
DESCRIPTION:
URL:https://myrcs.ca/event/mc-class-photos-4/
CATEGORIES:Middle Campus
END:VEVENT
BEGIN:VEVENT
DTSTART;VALUE=DATE:20250218
DTEND;VALUE=DATE:20250219
DTSTAMP:20260420T183045
CREATED:20250218T102024Z
LAST-MODIFIED:20250218T102314Z
UID:10001817-1739836800-1739923199@myrcs.ca
SUMMARY:MC: Jr. Course Selection at 7pm
DESCRIPTION:Held at the SC. For families going into Grade 9.
URL:https://myrcs.ca/event/7pm-jr-course-selection-night-at-the-sc/
CATEGORIES:Middle Campus
END:VEVENT
BEGIN:VEVENT
DTSTART;VALUE=DATE:20250214
DTEND;VALUE=DATE:20250215
DTSTAMP:20260420T183045
CREATED:20240306T235014Z
LAST-MODIFIED:20240306T235014Z
UID:10001759-1739491200-1739577599@myrcs.ca
SUMMARY:MC: Student-led Conferences / No school
DESCRIPTION:
URL:https://myrcs.ca/event/mc-student-led-conferences-no-school/
CATEGORIES:Middle Campus
END:VEVENT
BEGIN:VEVENT
DTSTART;VALUE=DATE:20250213
DTEND;VALUE=DATE:20250214
DTSTAMP:20260420T183045
CREATED:20240306T234650Z
LAST-MODIFIED:20240306T234650Z
UID:10001757-1739404800-1739491199@myrcs.ca
SUMMARY:MC: Student-led Conferences
DESCRIPTION:
URL:https://myrcs.ca/event/mc-student-led-conferences/
CATEGORIES:Middle Campus
END:VEVENT
BEGIN:VEVENT
DTSTART;VALUE=DATE:20250129
DTEND;VALUE=DATE:20250201
DTSTAMP:20260420T183045
CREATED:20240306T234035Z
LAST-MODIFIED:20240306T234035Z
UID:10001753-1738108800-1738367999@myrcs.ca
SUMMARY:MC: Theme Days
DESCRIPTION:
URL:https://myrcs.ca/event/mc-theme-days-3/
CATEGORIES:Middle Campus
END:VEVENT
BEGIN:VEVENT
DTSTART;VALUE=DATE:20241217
DTEND;VALUE=DATE:20241218
DTSTAMP:20260420T183045
CREATED:20240306T233024Z
LAST-MODIFIED:20240306T233044Z
UID:10001746-1734393600-1734479999@myrcs.ca
SUMMARY:MC: Formal Day
DESCRIPTION:
URL:https://myrcs.ca/event/mc-formal-day/
CATEGORIES:Middle Campus
END:VEVENT
BEGIN:VEVENT
DTSTART;VALUE=DATE:20241205
DTEND;VALUE=DATE:20241206
DTSTAMP:20260420T183045
CREATED:20240306T231552Z
LAST-MODIFIED:20240306T231552Z
UID:10001741-1733356800-1733443199@myrcs.ca
SUMMARY:MC: Christmas Concert with the SC
DESCRIPTION:
URL:https://myrcs.ca/event/mc-christmas-concert-with-the-sc/
CATEGORIES:Middle Campus
END:VEVENT
BEGIN:VEVENT
DTSTART;VALUE=DATE:20241202
DTEND;VALUE=DATE:20241203
DTSTAMP:20260420T183045
CREATED:20240306T231334Z
LAST-MODIFIED:20240306T231334Z
UID:10001738-1733097600-1733183999@myrcs.ca
SUMMARY:MC: Reports published at 3pm
DESCRIPTION:
URL:https://myrcs.ca/event/mc-reports-published-at-3pm/
CATEGORIES:Middle Campus
END:VEVENT
BEGIN:VEVENT
DTSTART;VALUE=DATE:20241125
DTEND;VALUE=DATE:20241126
DTSTAMP:20260420T183045
CREATED:20240306T231026Z
LAST-MODIFIED:20240306T231026Z
UID:10001736-1732492800-1732579199@myrcs.ca
SUMMARY:MC: Term 2 begins
DESCRIPTION:
URL:https://myrcs.ca/event/mc-term-2-begins-2/
CATEGORIES:Middle Campus
END:VEVENT
BEGIN:VEVENT
DTSTART;VALUE=DATE:20241122
DTEND;VALUE=DATE:20241123
DTSTAMP:20260420T183045
CREATED:20240509T141425Z
LAST-MODIFIED:20240509T141531Z
UID:10001799-1732233600-1732319999@myrcs.ca
SUMMARY:MC: Pro-D Day (No classes)
DESCRIPTION:
URL:https://myrcs.ca/event/mc-pro-d-day-no-classes-2/
CATEGORIES:Middle Campus
END:VEVENT
BEGIN:VEVENT
DTSTART;VALUE=DATE:20241121
DTEND;VALUE=DATE:20241122
DTSTAMP:20260420T183045
CREATED:20240306T225854Z
LAST-MODIFIED:20260324T172114Z
UID:10001734-1732147200-1732233599@myrcs.ca
SUMMARY:MC: Term 1 ends
DESCRIPTION:
URL:https://myrcs.ca/event/mc-term-2-ends-3/
CATEGORIES:Middle Campus
END:VEVENT
BEGIN:VEVENT
DTSTART;VALUE=DATE:20241025
DTEND;VALUE=DATE:20241026
DTSTAMP:20260420T183045
CREATED:20240306T224631Z
LAST-MODIFIED:20240306T224631Z
UID:10001722-1729814400-1729900799@myrcs.ca
SUMMARY:MC: Parent Teacher Conferences / No School
DESCRIPTION:
URL:https://myrcs.ca/event/mc-parent-teacher-conferences-no-school/
CATEGORIES:Middle Campus
END:VEVENT
BEGIN:VEVENT
DTSTART;VALUE=DATE:20241024
DTEND;VALUE=DATE:20241025
DTSTAMP:20260420T183045
CREATED:20240306T224542Z
LAST-MODIFIED:20240306T224542Z
UID:10001721-1729728000-1729814399@myrcs.ca
SUMMARY:MC: Parent Teacher Conferences
DESCRIPTION:
URL:https://myrcs.ca/event/mc-parent-teacher-conferences/
CATEGORIES:Middle Campus
END:VEVENT
BEGIN:VEVENT
DTSTART;VALUE=DATE:20241022
DTEND;VALUE=DATE:20241023
DTSTAMP:20260420T183045
CREATED:20240531T201747Z
LAST-MODIFIED:20240531T201747Z
UID:10001801-1729555200-1729641599@myrcs.ca
SUMMARY:MC Photo Retakes
DESCRIPTION:
URL:https://myrcs.ca/event/mc-photo-retakes/
CATEGORIES:Middle Campus
END:VEVENT
BEGIN:VEVENT
DTSTART;VALUE=DATE:20240920
DTEND;VALUE=DATE:20240921
DTSTAMP:20260420T183045
CREATED:20240531T202239Z
LAST-MODIFIED:20240531T202239Z
UID:10001804-1726790400-1726876799@myrcs.ca
SUMMARY:MC Photo Day
DESCRIPTION:
URL:https://myrcs.ca/event/mc-photo-day-2/
CATEGORIES:Middle Campus
END:VEVENT
BEGIN:VEVENT
DTSTART;VALUE=DATE:20240917
DTEND;VALUE=DATE:20240918
DTSTAMP:20260420T183045
CREATED:20240909T182151Z
LAST-MODIFIED:20240909T182151Z
UID:10001813-1726531200-1726617599@myrcs.ca
SUMMARY:MC: Meet the Teacher 7pm
DESCRIPTION:
URL:https://myrcs.ca/event/mc-meet-the-teacher-7pm/
CATEGORIES:Middle Campus
END:VEVENT
BEGIN:VEVENT
DTSTART;VALUE=DATE:20240904
DTEND;VALUE=DATE:20240907
DTSTAMP:20260420T183045
CREATED:20240306T222721Z
LAST-MODIFIED:20240306T222721Z
UID:10001711-1725408000-1725667199@myrcs.ca
SUMMARY:MC: Camp Stillwood
DESCRIPTION:
URL:https://myrcs.ca/event/mc-camp-stillwood-2/
CATEGORIES:Middle Campus
END:VEVENT
BEGIN:VEVENT
DTSTART;VALUE=DATE:20240903
DTEND;VALUE=DATE:20240904
DTSTAMP:20260420T183045
CREATED:20240306T222407Z
LAST-MODIFIED:20240306T222533Z
UID:10001709-1725321600-1725407999@myrcs.ca
SUMMARY:MC: Early Dismissal 12:30
DESCRIPTION:
URL:https://myrcs.ca/event/mc-early-dismissal-1230/
CATEGORIES:Middle Campus
END:VEVENT
BEGIN:VEVENT
DTSTART;VALUE=DATE:20240828
DTEND;VALUE=DATE:20240829
DTSTAMP:20260420T183045
CREATED:20240306T222036Z
LAST-MODIFIED:20240306T222036Z
UID:10001706-1724803200-1724889599@myrcs.ca
SUMMARY:MC: Welcome New Families (4:30-5pm)
DESCRIPTION:
URL:https://myrcs.ca/event/mc-welcome-new-families-430-5pm/
CATEGORIES:Middle Campus
END:VEVENT
BEGIN:VEVENT
DTSTART;VALUE=DATE:20240621
DTEND;VALUE=DATE:20240622
DTSTAMP:20260420T183045
CREATED:20230619T200041Z
LAST-MODIFIED:20230619T200041Z
UID:10001636-1718928000-1719014399@myrcs.ca
SUMMARY:MC: Gr 8 Farewell
DESCRIPTION:
URL:https://myrcs.ca/event/mc-gr-8-farewell/
CATEGORIES:Middle Campus
END:VEVENT
BEGIN:VEVENT
DTSTART;VALUE=DATE:20240621
DTEND;VALUE=DATE:20240622
DTSTAMP:20260420T183045
CREATED:20230209T185015Z
LAST-MODIFIED:20240206T192950Z
UID:10001497-1718928000-1719014399@myrcs.ca
SUMMARY:MC: Last Day (12:30 dismissal)
DESCRIPTION:
URL:https://myrcs.ca/event/last-day-of-school-3/
CATEGORIES:Middle Campus
END:VEVENT
BEGIN:VEVENT
DTSTART;VALUE=DATE:20240619
DTEND;VALUE=DATE:20240620
DTSTAMP:20260420T183045
CREATED:20230619T194738Z
LAST-MODIFIED:20240110T163153Z
UID:10001626-1718755200-1718841599@myrcs.ca
SUMMARY:MC: Exploratories
DESCRIPTION:
URL:https://myrcs.ca/event/mc-exploratories-9/
CATEGORIES:Middle Campus
END:VEVENT
BEGIN:VEVENT
DTSTART;VALUE=DATE:20240612
DTEND;VALUE=DATE:20240613
DTSTAMP:20260420T183045
CREATED:20230619T195138Z
LAST-MODIFIED:20230619T195138Z
UID:10001628-1718150400-1718236799@myrcs.ca
SUMMARY:MC: Exploratories
DESCRIPTION:
URL:https://myrcs.ca/event/mc-exploratories-10/
CATEGORIES:Middle Campus
END:VEVENT
BEGIN:VEVENT
DTSTART;VALUE=DATE:20240605
DTEND;VALUE=DATE:20240606
DTSTAMP:20260420T183045
CREATED:20230619T195242Z
LAST-MODIFIED:20230619T195242Z
UID:10001629-1717545600-1717631999@myrcs.ca
SUMMARY:MC: Exploratories
DESCRIPTION:
URL:https://myrcs.ca/event/mc-exploratories-11/
CATEGORIES:Middle Campus
END:VEVENT
END:VCALENDAR