BEGIN:VCALENDAR
VERSION:2.0
PRODID:-//Richmond Christian School - ECPv6.15.13//NONSGML v1.0//EN
CALSCALE:GREGORIAN
METHOD:PUBLISH
X-ORIGINAL-URL:https://myrcs.ca
X-WR-CALDESC:Events for Richmond Christian School
REFRESH-INTERVAL;VALUE=DURATION:PT1H
X-Robots-Tag:noindex
X-PUBLISHED-TTL:PT1H
BEGIN:VTIMEZONE
TZID:America/Vancouver
BEGIN:DAYLIGHT
TZOFFSETFROM:-0800
TZOFFSETTO:-0700
TZNAME:PDT
DTSTART:20250309T100000
END:DAYLIGHT
BEGIN:STANDARD
TZOFFSETFROM:-0700
TZOFFSETTO:-0800
TZNAME:PST
DTSTART:20251102T090000
END:STANDARD
BEGIN:DAYLIGHT
TZOFFSETFROM:-0800
TZOFFSETTO:-0700
TZNAME:PDT
DTSTART:20260308T100000
END:DAYLIGHT
BEGIN:STANDARD
TZOFFSETFROM:-0700
TZOFFSETTO:-0800
TZNAME:PST
DTSTART:20261101T090000
END:STANDARD
BEGIN:DAYLIGHT
TZOFFSETFROM:-0800
TZOFFSETTO:-0700
TZNAME:PDT
DTSTART:20270314T100000
END:DAYLIGHT
BEGIN:STANDARD
TZOFFSETFROM:-0700
TZOFFSETTO:-0800
TZNAME:PST
DTSTART:20271107T090000
END:STANDARD
BEGIN:DAYLIGHT
TZOFFSETFROM:-0800
TZOFFSETTO:-0700
TZNAME:PDT
DTSTART:20280312T100000
END:DAYLIGHT
BEGIN:STANDARD
TZOFFSETFROM:-0700
TZOFFSETTO:-0800
TZNAME:PST
DTSTART:20281105T090000
END:STANDARD
END:VTIMEZONE
BEGIN:VEVENT
DTSTART;VALUE=DATE:20260603
DTEND;VALUE=DATE:20260604
DTSTAMP:20260419T152748
CREATED:20250507T212001Z
LAST-MODIFIED:20250507T212001Z
UID:10001885-1780444800-1780531199@myrcs.ca
SUMMARY:MC: Exploratories
DESCRIPTION:
URL:https://myrcs.ca/event/mc-exploratories-13/
CATEGORIES:Middle Campus
END:VEVENT
BEGIN:VEVENT
DTSTART;VALUE=DATE:20260610
DTEND;VALUE=DATE:20260611
DTSTAMP:20260419T152748
CREATED:20250507T212029Z
LAST-MODIFIED:20250521T154051Z
UID:10001886-1781049600-1781135999@myrcs.ca
SUMMARY:MC: Exploratories
DESCRIPTION:
URL:https://myrcs.ca/event/mc-exploratories-14/
CATEGORIES:Middle Campus
END:VEVENT
BEGIN:VEVENT
DTSTART;VALUE=DATE:20260619
DTEND;VALUE=DATE:20260620
DTSTAMP:20260419T152748
CREATED:20250422T173546Z
LAST-MODIFIED:20250917T183127Z
UID:10001850-1781827200-1781913599@myrcs.ca
SUMMARY:MC: Last Day of Classes (12:30 dismissal)
DESCRIPTION:
URL:https://myrcs.ca/event/last-day-of-classes-students/
CATEGORIES:Middle Campus
END:VEVENT
BEGIN:VEVENT
DTSTART;VALUE=DATE:20260619
DTEND;VALUE=DATE:20260620
DTSTAMP:20260419T152748
CREATED:20250507T212123Z
LAST-MODIFIED:20250917T182923Z
UID:10001887-1781827200-1781913599@myrcs.ca
SUMMARY:MC: Grade 8 Farewell
DESCRIPTION:
URL:https://myrcs.ca/event/mc-grade-8-farewell-2/
CATEGORIES:Middle Campus
END:VEVENT
BEGIN:VEVENT
DTSTART;VALUE=DATE:20260626
DTEND;VALUE=DATE:20260627
DTSTAMP:20260419T152748
CREATED:20250507T212246Z
LAST-MODIFIED:20250507T212308Z
UID:10001889-1782432000-1782518399@myrcs.ca
SUMMARY:MC: Term 3 Reports Published 3pm
DESCRIPTION:
URL:https://myrcs.ca/event/mc-term-3-reports-published-3pm/
CATEGORIES:Middle Campus
END:VEVENT
BEGIN:VEVENT
DTSTART;VALUE=DATE:20261127
DTEND;VALUE=DATE:20261128
DTSTAMP:20260419T152748
CREATED:20251211T182306Z
LAST-MODIFIED:20251211T182306Z
UID:10001998-1795737600-1795823999@myrcs.ca
SUMMARY:MC: Pro-D (no school)
DESCRIPTION:
URL:https://myrcs.ca/event/mc-pro-d-no-school/
CATEGORIES:Middle Campus
END:VEVENT
BEGIN:VEVENT
DTSTART;VALUE=DATE:20270624
DTEND;VALUE=DATE:20270625
DTSTAMP:20260419T152748
CREATED:20260325T043859Z
LAST-MODIFIED:20260325T043859Z
UID:10002015-1813795200-1813881599@myrcs.ca
SUMMARY:MC: Grade 8 Farewell
DESCRIPTION:
URL:https://myrcs.ca/event/mc-grade-8-farewell-3/
CATEGORIES:Middle Campus
END:VEVENT
BEGIN:VEVENT
DTSTART;VALUE=DATE:20270624
DTEND;VALUE=DATE:20270625
DTSTAMP:20260419T152748
CREATED:20260325T050219Z
LAST-MODIFIED:20260325T050219Z
UID:10002016-1813795200-1813881599@myrcs.ca
SUMMARY:MC: Term 3 end
DESCRIPTION:
URL:https://myrcs.ca/event/ec-term-3-ends-2/
CATEGORIES:Middle Campus
END:VEVENT
END:VCALENDAR