BEGIN:VCALENDAR
VERSION:2.0
PRODID:-//Richmond Christian School - ECPv6.15.13//NONSGML v1.0//EN
CALSCALE:GREGORIAN
METHOD:PUBLISH
X-ORIGINAL-URL:https://myrcs.ca
X-WR-CALDESC:Events for Richmond Christian School
REFRESH-INTERVAL;VALUE=DURATION:PT1H
X-Robots-Tag:noindex
X-PUBLISHED-TTL:PT1H
BEGIN:VTIMEZONE
TZID:America/Vancouver
BEGIN:DAYLIGHT
TZOFFSETFROM:-0800
TZOFFSETTO:-0700
TZNAME:PDT
DTSTART:20210314T100000
END:DAYLIGHT
BEGIN:STANDARD
TZOFFSETFROM:-0700
TZOFFSETTO:-0800
TZNAME:PST
DTSTART:20211107T090000
END:STANDARD
BEGIN:DAYLIGHT
TZOFFSETFROM:-0800
TZOFFSETTO:-0700
TZNAME:PDT
DTSTART:20220313T100000
END:DAYLIGHT
BEGIN:STANDARD
TZOFFSETFROM:-0700
TZOFFSETTO:-0800
TZNAME:PST
DTSTART:20221106T090000
END:STANDARD
BEGIN:DAYLIGHT
TZOFFSETFROM:-0800
TZOFFSETTO:-0700
TZNAME:PDT
DTSTART:20230312T100000
END:DAYLIGHT
BEGIN:STANDARD
TZOFFSETFROM:-0700
TZOFFSETTO:-0800
TZNAME:PST
DTSTART:20231105T090000
END:STANDARD
END:VTIMEZONE
BEGIN:VEVENT
DTSTART;VALUE=DATE:20220427
DTEND;VALUE=DATE:20220428
DTSTAMP:20260421T022641
CREATED:20220331T191051Z
LAST-MODIFIED:20220331T191051Z
UID:10001354-1651017600-1651103999@myrcs.ca
SUMMARY:MC Class Photos
DESCRIPTION:
URL:https://myrcs.ca/event/mc-class-photos/
CATEGORIES:Middle Campus
END:VEVENT
BEGIN:VEVENT
DTSTART;VALUE=DATE:20220426
DTEND;VALUE=DATE:20220430
DTSTAMP:20260421T022641
CREATED:20210604T173057Z
LAST-MODIFIED:20210604T173057Z
UID:10001307-1650931200-1651276799@myrcs.ca
SUMMARY:MC ICC
DESCRIPTION:
URL:https://myrcs.ca/event/mc-icc-2/
CATEGORIES:Middle Campus
END:VEVENT
BEGIN:VEVENT
DTSTART;VALUE=DATE:20220311
DTEND;VALUE=DATE:20220312
DTSTAMP:20260421T022641
CREATED:20210604T172246Z
LAST-MODIFIED:20210604T172246Z
UID:10001300-1646956800-1647043199@myrcs.ca
SUMMARY:EC/MC Reports published
DESCRIPTION:
URL:https://myrcs.ca/event/ec-mc-reports-published-2/
CATEGORIES:Elementary Campus,Middle Campus
END:VEVENT
BEGIN:VEVENT
DTSTART;VALUE=DATE:20220304
DTEND;VALUE=DATE:20220305
DTSTAMP:20260421T022641
CREATED:20210604T171842Z
LAST-MODIFIED:20210604T171842Z
UID:10001298-1646352000-1646438399@myrcs.ca
SUMMARY:EC/MC T2 ends
DESCRIPTION:
URL:https://myrcs.ca/event/ec-mc-t2-ends/
CATEGORIES:Elementary Campus,Middle Campus
END:VEVENT
BEGIN:VEVENT
DTSTART;VALUE=DATE:20220223
DTEND;VALUE=DATE:20220224
DTSTAMP:20260421T022641
CREATED:20220218T172724Z
LAST-MODIFIED:20220218T172724Z
UID:10001347-1645574400-1645660799@myrcs.ca
SUMMARY:MC Pink Shirt Day
DESCRIPTION:
URL:https://myrcs.ca/event/mc-pink-shirt-day/
CATEGORIES:Middle Campus
END:VEVENT
BEGIN:VEVENT
DTSTART;VALUE=DATE:20220210
DTEND;VALUE=DATE:20220211
DTSTAMP:20260421T022641
CREATED:20210604T171144Z
LAST-MODIFIED:20210604T193141Z
UID:10000781-1644451200-1644537599@myrcs.ca
SUMMARY:MC Student Teacher Parent Conf (no classes)
DESCRIPTION:
URL:https://myrcs.ca/event/mc-student-teacher-parent-conf-2/
CATEGORIES:Middle Campus
END:VEVENT
BEGIN:VEVENT
DTSTART;TZID=America/Vancouver:20220209T153000
DTEND;TZID=America/Vancouver:20220209T183000
DTSTAMP:20260421T022641
CREATED:20210604T170948Z
LAST-MODIFIED:20210604T193222Z
UID:10000777-1644420600-1644431400@myrcs.ca
SUMMARY:MC Student Teacher Parent Conf
DESCRIPTION:
URL:https://myrcs.ca/event/mc-student-teacher-parent-conf/
CATEGORIES:Middle Campus
END:VEVENT
END:VCALENDAR