BEGIN:VCALENDAR
VERSION:2.0
PRODID:-//Richmond Christian School - ECPv6.15.13//NONSGML v1.0//EN
CALSCALE:GREGORIAN
METHOD:PUBLISH
X-ORIGINAL-URL:https://myrcs.ca
X-WR-CALDESC:Events for Richmond Christian School
REFRESH-INTERVAL;VALUE=DURATION:PT1H
X-Robots-Tag:noindex
X-PUBLISHED-TTL:PT1H
BEGIN:VTIMEZONE
TZID:America/Vancouver
BEGIN:DAYLIGHT
TZOFFSETFROM:-0800
TZOFFSETTO:-0700
TZNAME:PDT
DTSTART:20210314T100000
END:DAYLIGHT
BEGIN:STANDARD
TZOFFSETFROM:-0700
TZOFFSETTO:-0800
TZNAME:PST
DTSTART:20211107T090000
END:STANDARD
BEGIN:DAYLIGHT
TZOFFSETFROM:-0800
TZOFFSETTO:-0700
TZNAME:PDT
DTSTART:20220313T100000
END:DAYLIGHT
BEGIN:STANDARD
TZOFFSETFROM:-0700
TZOFFSETTO:-0800
TZNAME:PST
DTSTART:20221106T090000
END:STANDARD
BEGIN:DAYLIGHT
TZOFFSETFROM:-0800
TZOFFSETTO:-0700
TZNAME:PDT
DTSTART:20230312T100000
END:DAYLIGHT
BEGIN:STANDARD
TZOFFSETFROM:-0700
TZOFFSETTO:-0800
TZNAME:PST
DTSTART:20231105T090000
END:STANDARD
END:VTIMEZONE
BEGIN:VEVENT
DTSTART;VALUE=DATE:20221102
DTEND;VALUE=DATE:20221103
DTSTAMP:20260425T184731
CREATED:20220606T193133Z
LAST-MODIFIED:20220915T210411Z
UID:10001421-1667347200-1667433599@myrcs.ca
SUMMARY:SC: Photo Retakes
DESCRIPTION:
URL:https://myrcs.ca/event/sc-photo-retakes-3/
CATEGORIES:Secondary Campus
END:VEVENT
BEGIN:VEVENT
DTSTART;VALUE=DATE:20221104
DTEND;VALUE=DATE:20221105
DTSTAMP:20260425T184731
CREATED:20220601T175324Z
LAST-MODIFIED:20220606T184536Z
UID:10001397-1667520000-1667606399@myrcs.ca
SUMMARY:SC: G12 Literacy
DESCRIPTION:
URL:https://myrcs.ca/event/sc-g-11-12-literacy/
CATEGORIES:Secondary Campus
END:VEVENT
BEGIN:VEVENT
DTSTART;VALUE=DATE:20221104
DTEND;VALUE=DATE:20221105
DTSTAMP:20260425T184731
CREATED:20220601T175355Z
LAST-MODIFIED:20220601T175355Z
UID:10001395-1667520000-1667606399@myrcs.ca
SUMMARY:SC: G10 Numeracy
DESCRIPTION:
URL:https://myrcs.ca/event/sc-g10-numeracy/
CATEGORIES:Secondary Campus
END:VEVENT
BEGIN:VEVENT
DTSTART;VALUE=DATE:20221104
DTEND;VALUE=DATE:20221105
DTSTAMP:20260425T184731
CREATED:20220606T184643Z
LAST-MODIFIED:20220606T184643Z
UID:10000893-1667520000-1667606399@myrcs.ca
SUMMARY:SC: Q1 ends
DESCRIPTION:
URL:https://myrcs.ca/event/sc-q1-ends-4/
CATEGORIES:Secondary Campus
END:VEVENT
BEGIN:VEVENT
DTSTART;TZID=America/Vancouver:20221107T080000
DTEND;TZID=America/Vancouver:20221107T170000
DTSTAMP:20260425T184731
CREATED:20220606T184729Z
LAST-MODIFIED:20220606T184729Z
UID:10000894-1667808000-1667840400@myrcs.ca
SUMMARY:SC: G9 Immunizations
DESCRIPTION:
URL:https://myrcs.ca/event/sc-g9-immunizations/
CATEGORIES:Secondary Campus
END:VEVENT
BEGIN:VEVENT
DTSTART;TZID=America/Vancouver:20221110T150000
DTEND;TZID=America/Vancouver:20221110T150000
DTSTAMP:20260425T184731
CREATED:20220606T190007Z
LAST-MODIFIED:20220606T190007Z
UID:10000895-1668092400-1668092400@myrcs.ca
SUMMARY:SC: Q1 Reports Published (3pm)
DESCRIPTION:
URL:https://myrcs.ca/event/sc-q1-reports-published-3pm-2/
CATEGORIES:Secondary Campus
END:VEVENT
BEGIN:VEVENT
DTSTART;TZID=America/Vancouver:20221124T153000
DTEND;TZID=America/Vancouver:20221124T180000
DTSTAMP:20260425T184731
CREATED:20220606T191100Z
LAST-MODIFIED:20220606T191136Z
UID:10001414-1669303800-1669312800@myrcs.ca
SUMMARY:SC: Parent Teacher (zoom) 3:30-6pm
DESCRIPTION:
URL:https://myrcs.ca/event/sc-parent-teacher-zoom-330-6pm/
CATEGORIES:Secondary Campus
END:VEVENT
BEGIN:VEVENT
DTSTART;TZID=America/Vancouver:20221125T090000
DTEND;TZID=America/Vancouver:20221125T150000
DTSTAMP:20260425T184731
CREATED:20220606T191541Z
LAST-MODIFIED:20220606T191541Z
UID:10001416-1669366800-1669388400@myrcs.ca
SUMMARY:SC: Parent Teacher (zoom) 9am-3pm
DESCRIPTION:
URL:https://myrcs.ca/event/sc-parent-teacher-zoom-9am-3pm/
CATEGORIES:Secondary Campus
END:VEVENT
END:VCALENDAR