BEGIN:VCALENDAR
VERSION:2.0
PRODID:-//Richmond Christian School - ECPv6.15.13//NONSGML v1.0//EN
CALSCALE:GREGORIAN
METHOD:PUBLISH
X-ORIGINAL-URL:https://myrcs.ca
X-WR-CALDESC:Events for Richmond Christian School
REFRESH-INTERVAL;VALUE=DURATION:PT1H
X-Robots-Tag:noindex
X-PUBLISHED-TTL:PT1H
BEGIN:VTIMEZONE
TZID:America/Vancouver
BEGIN:DAYLIGHT
TZOFFSETFROM:-0800
TZOFFSETTO:-0700
TZNAME:PDT
DTSTART:20220313T100000
END:DAYLIGHT
BEGIN:STANDARD
TZOFFSETFROM:-0700
TZOFFSETTO:-0800
TZNAME:PST
DTSTART:20221106T090000
END:STANDARD
BEGIN:DAYLIGHT
TZOFFSETFROM:-0800
TZOFFSETTO:-0700
TZNAME:PDT
DTSTART:20230312T100000
END:DAYLIGHT
BEGIN:STANDARD
TZOFFSETFROM:-0700
TZOFFSETTO:-0800
TZNAME:PST
DTSTART:20231105T090000
END:STANDARD
BEGIN:DAYLIGHT
TZOFFSETFROM:-0800
TZOFFSETTO:-0700
TZNAME:PDT
DTSTART:20240310T100000
END:DAYLIGHT
BEGIN:STANDARD
TZOFFSETFROM:-0700
TZOFFSETTO:-0800
TZNAME:PST
DTSTART:20241103T090000
END:STANDARD
END:VTIMEZONE
BEGIN:VEVENT
DTSTART;VALUE=DATE:20230501
DTEND;VALUE=DATE:20230502
DTSTAMP:20260421T213411
CREATED:20220606T203029Z
LAST-MODIFIED:20220606T203253Z
UID:10000918-1682899200-1682985599@myrcs.ca
SUMMARY:SC: G9/10 Immunizations
DESCRIPTION:
URL:https://myrcs.ca/event/sc-g9-10-immunizations/
CATEGORIES:Secondary Campus
END:VEVENT
BEGIN:VEVENT
DTSTART;VALUE=DATE:20230502
DTEND;VALUE=DATE:20230503
DTSTAMP:20260421T213411
CREATED:20220606T204143Z
LAST-MODIFIED:20230308T224928Z
UID:10001434-1682985600-1683071999@myrcs.ca
SUMMARY:Noon: AP Psych
DESCRIPTION:
URL:https://myrcs.ca/event/sc-ap-psych-noon/
CATEGORIES:Secondary Campus
END:VEVENT
BEGIN:VEVENT
DTSTART;VALUE=DATE:20230508
DTEND;VALUE=DATE:20230509
DTSTAMP:20260421T213411
CREATED:20220606T203403Z
LAST-MODIFIED:20230308T225012Z
UID:10001438-1683504000-1683590399@myrcs.ca
SUMMARY:8am AP Calc AB and BC
DESCRIPTION:
URL:https://myrcs.ca/event/sc-ap-calc-a-b-8am/
CATEGORIES:Secondary Campus
END:VEVENT
BEGIN:VEVENT
DTSTART;VALUE=DATE:20230509
DTEND;VALUE=DATE:20230510
DTSTAMP:20260421T213411
CREATED:20220606T204225Z
LAST-MODIFIED:20230308T225039Z
UID:10001432-1683590400-1683676799@myrcs.ca
SUMMARY:8am AP English
DESCRIPTION:
URL:https://myrcs.ca/event/sc-ap-english-language-8am/
CATEGORIES:Secondary Campus
END:VEVENT
BEGIN:VEVENT
DTSTART;VALUE=DATE:20230512
DTEND;VALUE=DATE:20230513
DTSTAMP:20260421T213411
CREATED:20230308T210604Z
LAST-MODIFIED:20230308T225108Z
UID:10001500-1683849600-1683935999@myrcs.ca
SUMMARY:Noon AP Physics 2
DESCRIPTION:
URL:https://myrcs.ca/event/ap-physics-2/
CATEGORIES:Secondary Campus
END:VEVENT
BEGIN:VEVENT
DTSTART;VALUE=DATE:20230514
DTEND;VALUE=DATE:20230520
DTSTAMP:20260421T213411
CREATED:20220620T154136Z
LAST-MODIFIED:20220620T154209Z
UID:10001454-1684022400-1684540799@myrcs.ca
SUMMARY:SC: Band Trip to Disneyland
DESCRIPTION:
URL:https://myrcs.ca/event/sc-band-trip-to-disneyland/
CATEGORIES:Secondary Campus
END:VEVENT
BEGIN:VEVENT
DTSTART;VALUE=DATE:20230524
DTEND;VALUE=DATE:20230525
DTSTAMP:20260421T213411
CREATED:20220606T204543Z
LAST-MODIFIED:20220606T204543Z
UID:10001446-1684886400-1684972799@myrcs.ca
SUMMARY:SC: Welcome to Grade 9
DESCRIPTION:
URL:https://myrcs.ca/event/sc-welcome-to-grade-9-4/
CATEGORIES:Secondary Campus
END:VEVENT
BEGIN:VEVENT
DTSTART;VALUE=DATE:20230531
DTEND;VALUE=DATE:20230601
DTSTAMP:20260421T213411
CREATED:20230330T182621Z
LAST-MODIFIED:20230531T224128Z
UID:10001504-1685491200-1685577599@myrcs.ca
SUMMARY:SC: Fine Arts Night at 7pm
DESCRIPTION:
URL:https://myrcs.ca/event/sc-fine-arts-night-2/
CATEGORIES:Secondary Campus
END:VEVENT
END:VCALENDAR