BEGIN:VCALENDAR
VERSION:2.0
PRODID:-//Richmond Christian School - ECPv6.15.13//NONSGML v1.0//EN
CALSCALE:GREGORIAN
METHOD:PUBLISH
X-ORIGINAL-URL:https://myrcs.ca
X-WR-CALDESC:Events for Richmond Christian School
REFRESH-INTERVAL;VALUE=DURATION:PT1H
X-Robots-Tag:noindex
X-PUBLISHED-TTL:PT1H
BEGIN:VTIMEZONE
TZID:America/Vancouver
BEGIN:DAYLIGHT
TZOFFSETFROM:-0800
TZOFFSETTO:-0700
TZNAME:PDT
DTSTART:20230312T100000
END:DAYLIGHT
BEGIN:STANDARD
TZOFFSETFROM:-0700
TZOFFSETTO:-0800
TZNAME:PST
DTSTART:20231105T090000
END:STANDARD
BEGIN:DAYLIGHT
TZOFFSETFROM:-0800
TZOFFSETTO:-0700
TZNAME:PDT
DTSTART:20240310T100000
END:DAYLIGHT
BEGIN:STANDARD
TZOFFSETFROM:-0700
TZOFFSETTO:-0800
TZNAME:PST
DTSTART:20241103T090000
END:STANDARD
BEGIN:DAYLIGHT
TZOFFSETFROM:-0800
TZOFFSETTO:-0700
TZNAME:PDT
DTSTART:20250309T100000
END:DAYLIGHT
BEGIN:STANDARD
TZOFFSETFROM:-0700
TZOFFSETTO:-0800
TZNAME:PST
DTSTART:20251102T090000
END:STANDARD
END:VTIMEZONE
BEGIN:VEVENT
DTSTART;VALUE=DATE:20240124
DTEND;VALUE=DATE:20240125
DTSTAMP:20260420T095044
CREATED:20230619T185500Z
LAST-MODIFIED:20231211T193233Z
UID:10001596-1706054400-1706140799@myrcs.ca
SUMMARY:SC: Literacy 10
DESCRIPTION:
URL:https://myrcs.ca/event/sc-literacy-10/
CATEGORIES:Secondary Campus
END:VEVENT
BEGIN:VEVENT
DTSTART;VALUE=DATE:20240125
DTEND;VALUE=DATE:20240126
DTSTAMP:20260420T095044
CREATED:20230619T185540Z
LAST-MODIFIED:20230619T185540Z
UID:10001597-1706140800-1706227199@myrcs.ca
SUMMARY:SC: Q2 ends
DESCRIPTION:
URL:https://myrcs.ca/event/sc-q2-ends-2/
CATEGORIES:Secondary Campus
END:VEVENT
BEGIN:VEVENT
DTSTART;VALUE=DATE:20240125
DTEND;VALUE=DATE:20240128
DTSTAMP:20260420T095044
CREATED:20230518T182034Z
LAST-MODIFIED:20230518T182101Z
UID:10001545-1706140800-1706399999@myrcs.ca
SUMMARY:SC: Grad Photos
DESCRIPTION:
URL:https://myrcs.ca/event/sc-grad-photos-3/
CATEGORIES:Secondary Campus
END:VEVENT
BEGIN:VEVENT
DTSTART;VALUE=DATE:20240126
DTEND;VALUE=DATE:20240127
DTSTAMP:20260420T095044
CREATED:20230619T185426Z
LAST-MODIFIED:20230619T185426Z
UID:10001595-1706227200-1706313599@myrcs.ca
SUMMARY:SC: Pro-D Day (no classes)
DESCRIPTION:
URL:https://myrcs.ca/event/sc-pro-d-day-no-classes/
CATEGORIES:Secondary Campus
END:VEVENT
BEGIN:VEVENT
DTSTART;VALUE=DATE:20240126
DTEND;VALUE=DATE:20240127
DTSTAMP:20260420T095044
CREATED:20230622T184746Z
LAST-MODIFIED:20230622T184746Z
UID:10001642-1706227200-1706313599@myrcs.ca
SUMMARY:SC: Grad Assessment rewrite
DESCRIPTION:
URL:https://myrcs.ca/event/sc-grad-assessment-rewrite/
CATEGORIES:Secondary Campus
END:VEVENT
END:VCALENDAR