BEGIN:VCALENDAR
VERSION:2.0
PRODID:-//Richmond Christian School - ECPv6.15.13//NONSGML v1.0//EN
CALSCALE:GREGORIAN
METHOD:PUBLISH
X-WR-CALNAME:Richmond Christian School
X-ORIGINAL-URL:https://myrcs.ca
X-WR-CALDESC:Events for Richmond Christian School
REFRESH-INTERVAL;VALUE=DURATION:PT1H
X-Robots-Tag:noindex
X-PUBLISHED-TTL:PT1H
BEGIN:VTIMEZONE
TZID:America/Vancouver
BEGIN:DAYLIGHT
TZOFFSETFROM:-0800
TZOFFSETTO:-0700
TZNAME:PDT
DTSTART:20240310T100000
END:DAYLIGHT
BEGIN:STANDARD
TZOFFSETFROM:-0700
TZOFFSETTO:-0800
TZNAME:PST
DTSTART:20241103T090000
END:STANDARD
BEGIN:DAYLIGHT
TZOFFSETFROM:-0800
TZOFFSETTO:-0700
TZNAME:PDT
DTSTART:20250309T100000
END:DAYLIGHT
BEGIN:STANDARD
TZOFFSETFROM:-0700
TZOFFSETTO:-0800
TZNAME:PST
DTSTART:20251102T090000
END:STANDARD
BEGIN:DAYLIGHT
TZOFFSETFROM:-0800
TZOFFSETTO:-0700
TZNAME:PDT
DTSTART:20260308T100000
END:DAYLIGHT
BEGIN:STANDARD
TZOFFSETFROM:-0700
TZOFFSETTO:-0800
TZNAME:PST
DTSTART:20261101T090000
END:STANDARD
END:VTIMEZONE
BEGIN:VEVENT
DTSTART;VALUE=DATE:20250512
DTEND;VALUE=DATE:20250513
DTSTAMP:20260420T081550
CREATED:20250218T114509Z
LAST-MODIFIED:20250218T114544Z
UID:10001830-1747008000-1747094399@myrcs.ca
SUMMARY:SC: Gr 9 Immunizations
DESCRIPTION:This is for the students that missed the November 2024 immunization date – Makeup date
URL:https://myrcs.ca/event/sc-gr-9-immunizations/
CATEGORIES:Secondary Campus
END:VEVENT
BEGIN:VEVENT
DTSTART;VALUE=DATE:20250521
DTEND;VALUE=DATE:20250522
DTSTAMP:20260420T081550
CREATED:20250428T201459Z
LAST-MODIFIED:20250428T201459Z
UID:10001851-1747785600-1747871999@myrcs.ca
SUMMARY:SC: Anne of Green Gables at 7pm
DESCRIPTION:
URL:https://myrcs.ca/event/sc-anne-of-green-gables-at-7pm/
CATEGORIES:Secondary Campus
END:VEVENT
BEGIN:VEVENT
DTSTART;VALUE=DATE:20250522
DTEND;VALUE=DATE:20250523
DTSTAMP:20260420T081550
CREATED:20250428T201525Z
LAST-MODIFIED:20250428T201710Z
UID:10001852-1747872000-1747958399@myrcs.ca
SUMMARY:SC: Anne of Green Gables at 7pm
DESCRIPTION:
URL:https://myrcs.ca/event/sc-anne-of-green-gables-at-7pm-2/
CATEGORIES:Secondary Campus
END:VEVENT
BEGIN:VEVENT
DTSTART;VALUE=DATE:20250523
DTEND;VALUE=DATE:20250524
DTSTAMP:20260420T081550
CREATED:20250428T201556Z
LAST-MODIFIED:20250428T201556Z
UID:10001853-1747958400-1748044799@myrcs.ca
SUMMARY:SC: Anne of Green Gables at 7pm
DESCRIPTION:
URL:https://myrcs.ca/event/sc-anne-of-green-gables-at-7pm-3/
CATEGORIES:Secondary Campus
END:VEVENT
END:VCALENDAR