BEGIN:VCALENDAR
VERSION:2.0
PRODID:-//Richmond Christian School - ECPv6.15.13//NONSGML v1.0//EN
CALSCALE:GREGORIAN
METHOD:PUBLISH
X-WR-CALNAME:Richmond Christian School
X-ORIGINAL-URL:https://myrcs.ca
X-WR-CALDESC:Events for Richmond Christian School
REFRESH-INTERVAL;VALUE=DURATION:PT1H
X-Robots-Tag:noindex
X-PUBLISHED-TTL:PT1H
BEGIN:VTIMEZONE
TZID:America/Vancouver
BEGIN:DAYLIGHT
TZOFFSETFROM:-0800
TZOFFSETTO:-0700
TZNAME:PDT
DTSTART:20230312T100000
END:DAYLIGHT
BEGIN:STANDARD
TZOFFSETFROM:-0700
TZOFFSETTO:-0800
TZNAME:PST
DTSTART:20231105T090000
END:STANDARD
BEGIN:DAYLIGHT
TZOFFSETFROM:-0800
TZOFFSETTO:-0700
TZNAME:PDT
DTSTART:20240310T100000
END:DAYLIGHT
BEGIN:STANDARD
TZOFFSETFROM:-0700
TZOFFSETTO:-0800
TZNAME:PST
DTSTART:20241103T090000
END:STANDARD
BEGIN:DAYLIGHT
TZOFFSETFROM:-0800
TZOFFSETTO:-0700
TZNAME:PDT
DTSTART:20250309T100000
END:DAYLIGHT
BEGIN:STANDARD
TZOFFSETFROM:-0700
TZOFFSETTO:-0800
TZNAME:PST
DTSTART:20251102T090000
END:STANDARD
END:VTIMEZONE
BEGIN:VEVENT
DTSTART;VALUE=DATE:20240202
DTEND;VALUE=DATE:20240203
DTSTAMP:20260421T085316
CREATED:20230628T213444Z
LAST-MODIFIED:20230628T213444Z
UID:10001648-1706832000-1706918399@myrcs.ca
SUMMARY:SC: Q2 Reports Published
DESCRIPTION:
URL:https://myrcs.ca/event/sc-q2-reports-published-3/
CATEGORIES:Secondary Campus
END:VEVENT
BEGIN:VEVENT
DTSTART;VALUE=DATE:20240212
DTEND;VALUE=DATE:20240213
DTSTAMP:20260421T085316
CREATED:20240122T230032Z
LAST-MODIFIED:20240122T230508Z
UID:10001697-1707696000-1707782399@myrcs.ca
SUMMARY:SC: Gr 9/10 Course Selection Night 7pm
DESCRIPTION:
URL:https://myrcs.ca/event/sc-gr-9-10-course-selection-night/
CATEGORIES:Secondary Campus
END:VEVENT
BEGIN:VEVENT
DTSTART;VALUE=DATE:20240215
DTEND;VALUE=DATE:20240216
DTSTAMP:20260421T085316
CREATED:20230619T190832Z
LAST-MODIFIED:20230619T192426Z
UID:10001603-1707955200-1708041599@myrcs.ca
SUMMARY:SC: Parent-Teacher Conferences 3:30-6pm
DESCRIPTION:
URL:https://myrcs.ca/event/sc-parent-teacher-330-6pm-2/
CATEGORIES:Secondary Campus
END:VEVENT
BEGIN:VEVENT
DTSTART;VALUE=DATE:20240216
DTEND;VALUE=DATE:20240217
DTSTAMP:20260421T085316
CREATED:20230209T184629Z
LAST-MODIFIED:20230622T184955Z
UID:10001494-1708041600-1708127999@myrcs.ca
SUMMARY:SC: Parent-Teacher Conferences 8:30-3:30 (no classes)
DESCRIPTION:
URL:https://myrcs.ca/event/sc-parent-teacher-conferences-no-classes-2/
CATEGORIES:Secondary Campus
END:VEVENT
BEGIN:VEVENT
DTSTART;VALUE=DATE:20240229
DTEND;VALUE=DATE:20240301
DTSTAMP:20260421T085316
CREATED:20240122T230118Z
LAST-MODIFIED:20240123T212026Z
UID:10001698-1709164800-1709251199@myrcs.ca
SUMMARY:SC: Gr 11/12 Course Selection Night 7pm
DESCRIPTION:
URL:https://myrcs.ca/event/sc-gr-11-12-course-selection-night/
CATEGORIES:Secondary Campus
END:VEVENT
BEGIN:VEVENT
DTSTART;VALUE=DATE:20240408
DTEND;VALUE=DATE:20240413
DTSTAMP:20260421T085316
CREATED:20230622T185346Z
LAST-MODIFIED:20240206T193121Z
UID:10001643-1712534400-1712966399@myrcs.ca
SUMMARY:SC: Dominican Republic Service Week (and Camp Jubilee Gr 9 & 10)
DESCRIPTION:
URL:https://myrcs.ca/event/sc-impact-week/
CATEGORIES:Secondary Campus
END:VEVENT
BEGIN:VEVENT
DTSTART;VALUE=DATE:20240412
DTEND;VALUE=DATE:20240413
DTSTAMP:20260421T085316
CREATED:20230619T193506Z
LAST-MODIFIED:20230823T191259Z
UID:10001613-1712880000-1712966399@myrcs.ca
SUMMARY:SC: Q3 ends
DESCRIPTION:
URL:https://myrcs.ca/event/sc-q3-ends-5/
CATEGORIES:Secondary Campus
END:VEVENT
BEGIN:VEVENT
DTSTART;VALUE=DATE:20240419
DTEND;VALUE=DATE:20240420
DTSTAMP:20260421T085316
CREATED:20230628T213640Z
LAST-MODIFIED:20230823T191216Z
UID:10001649-1713484800-1713571199@myrcs.ca
SUMMARY:SC: Q3 Reports Published
DESCRIPTION:
URL:https://myrcs.ca/event/sc-q3-reports-published-2/
CATEGORIES:Secondary Campus
END:VEVENT
BEGIN:VEVENT
DTSTART;VALUE=DATE:20240509
DTEND;VALUE=DATE:20240510
DTSTAMP:20260421T085316
CREATED:20230523T164754Z
LAST-MODIFIED:20230529T171108Z
UID:10001546-1715212800-1715299199@myrcs.ca
SUMMARY:SC: Immunizations
DESCRIPTION:
URL:https://myrcs.ca/event/sc-immunization/
CATEGORIES:Secondary Campus
END:VEVENT
BEGIN:VEVENT
DTSTART;VALUE=DATE:20240607
DTEND;VALUE=DATE:20240608
DTSTAMP:20260421T085316
CREATED:20231108T175032Z
LAST-MODIFIED:20240410T155746Z
UID:10001675-1717718400-1717804799@myrcs.ca
SUMMARY:SC: Boat Cruise (6-10pm)
DESCRIPTION:
URL:https://myrcs.ca/event/sc-boat-cruise/
CATEGORIES:Secondary Campus
END:VEVENT
BEGIN:VEVENT
DTSTART;VALUE=DATE:20240619
DTEND;VALUE=DATE:20240620
DTSTAMP:20260421T085316
CREATED:20230619T195758Z
LAST-MODIFIED:20230619T195758Z
UID:10001632-1718755200-1718841599@myrcs.ca
SUMMARY:SC: Awards Day / Last Day of Classes
DESCRIPTION:
URL:https://myrcs.ca/event/sc-awards-day-last-day-of-classes/
CATEGORIES:Secondary Campus
END:VEVENT
BEGIN:VEVENT
DTSTART;VALUE=DATE:20240619
DTEND;VALUE=DATE:20240620
DTSTAMP:20260421T085316
CREATED:20230622T185956Z
LAST-MODIFIED:20230628T213949Z
UID:10001645-1718755200-1718841599@myrcs.ca
SUMMARY:SC: Last Day / Q4 ends
DESCRIPTION:
URL:https://myrcs.ca/event/sc-q4-ends/
CATEGORIES:Secondary Campus
END:VEVENT
BEGIN:VEVENT
DTSTART;VALUE=DATE:20240619
DTEND;VALUE=DATE:20240620
DTSTAMP:20260421T085316
CREATED:20240410T155932Z
LAST-MODIFIED:20240410T160723Z
UID:10001795-1718755200-1718841599@myrcs.ca
SUMMARY:SC: Parent Grad Event /  Beach Day (2-5pm)
DESCRIPTION:
URL:https://myrcs.ca/event/sc-grad-beach-day-2-5pm/
CATEGORIES:Secondary Campus
END:VEVENT
BEGIN:VEVENT
DTSTART;VALUE=DATE:20240621
DTEND;VALUE=DATE:20240622
DTSTAMP:20260421T085316
CREATED:20230622T193116Z
LAST-MODIFIED:20240410T160044Z
UID:10001646-1718928000-1719014399@myrcs.ca
SUMMARY:SC: Convocation (6:30-9:30pm) Bethany Baptist
DESCRIPTION:
URL:https://myrcs.ca/event/sc-convocation-2/
CATEGORIES:Secondary Campus
END:VEVENT
BEGIN:VEVENT
DTSTART;VALUE=DATE:20240625
DTEND;VALUE=DATE:20240626
DTSTAMP:20260421T085316
CREATED:20230619T195840Z
LAST-MODIFIED:20240410T160133Z
UID:10001633-1719273600-1719359999@myrcs.ca
SUMMARY:SC: Grad Banquet (6-11pm)
DESCRIPTION:
URL:https://myrcs.ca/event/sc-grad-banquet-and-boat-cruise/
CATEGORIES:Secondary Campus
END:VEVENT
BEGIN:VEVENT
DTSTART;VALUE=DATE:20240828
DTEND;VALUE=DATE:20240829
DTSTAMP:20260421T085316
CREATED:20240306T222111Z
LAST-MODIFIED:20240627T181251Z
UID:10001707-1724803200-1724889599@myrcs.ca
SUMMARY:SC: Welcome New Families (4-4:30pm)
DESCRIPTION:
URL:https://myrcs.ca/event/sc-welcome-new-families/
CATEGORIES:Secondary Campus
END:VEVENT
BEGIN:VEVENT
DTSTART;VALUE=DATE:20240903
DTEND;VALUE=DATE:20240904
DTSTAMP:20260421T085316
CREATED:20240306T222331Z
LAST-MODIFIED:20240306T222331Z
UID:10001708-1725321600-1725407999@myrcs.ca
SUMMARY:SC: Early Dismissal 12:30
DESCRIPTION:
URL:https://myrcs.ca/event/sc-early-dismissal-1230/
CATEGORIES:Secondary Campus
END:VEVENT
BEGIN:VEVENT
DTSTART;VALUE=DATE:20240911
DTEND;VALUE=DATE:20240914
DTSTAMP:20260421T085316
CREATED:20240306T222835Z
LAST-MODIFIED:20240306T222835Z
UID:10001712-1726012800-1726271999@myrcs.ca
SUMMARY:SC: Kumsheen (G12)
DESCRIPTION:
URL:https://myrcs.ca/event/sc-kumsheen-g12/
CATEGORIES:Secondary Campus
END:VEVENT
BEGIN:VEVENT
DTSTART;VALUE=DATE:20240911
DTEND;VALUE=DATE:20240914
DTSTAMP:20260421T085316
CREATED:20240306T222938Z
LAST-MODIFIED:20240306T222938Z
UID:10001713-1726012800-1726271999@myrcs.ca
SUMMARY:SC: Qwanoes (G9-11)
DESCRIPTION:
URL:https://myrcs.ca/event/sc-qwanoes-g9-11/
CATEGORIES:Secondary Campus
END:VEVENT
BEGIN:VEVENT
DTSTART;VALUE=DATE:20240916
DTEND;VALUE=DATE:20240917
DTSTAMP:20260421T085316
CREATED:20240531T201641Z
LAST-MODIFIED:20240531T201641Z
UID:10001800-1726444800-1726531199@myrcs.ca
SUMMARY:SC Photo Day
DESCRIPTION:
URL:https://myrcs.ca/event/sc-photo-day/
CATEGORIES:Secondary Campus
END:VEVENT
BEGIN:VEVENT
DTSTART;VALUE=DATE:20240923
DTEND;VALUE=DATE:20240924
DTSTAMP:20260421T085316
CREATED:20240906T222840Z
LAST-MODIFIED:20240910T174320Z
UID:10001812-1727049600-1727135999@myrcs.ca
SUMMARY:SC: Meet the Teacher (7pm - 8:30pm in the gym)
DESCRIPTION:
URL:https://myrcs.ca/event/sc-meet-the-teacher-7-830pm/
CATEGORIES:Secondary Campus
END:VEVENT
BEGIN:VEVENT
DTSTART;VALUE=DATE:20241022
DTEND;VALUE=DATE:20241023
DTSTAMP:20260421T085316
CREATED:20240531T201811Z
LAST-MODIFIED:20240531T201811Z
UID:10001802-1729555200-1729641599@myrcs.ca
SUMMARY:SC Photo Retakes
DESCRIPTION:
URL:https://myrcs.ca/event/sc-photo-retakes/
CATEGORIES:Secondary Campus
END:VEVENT
BEGIN:VEVENT
DTSTART;VALUE=DATE:20241101
DTEND;VALUE=DATE:20241102
DTSTAMP:20260421T085316
CREATED:20240306T225010Z
LAST-MODIFIED:20240306T225010Z
UID:10001725-1730419200-1730505599@myrcs.ca
SUMMARY:SC: G12/9 Buddies Field Trip
DESCRIPTION:
URL:https://myrcs.ca/event/sc-g12-9-buddies-field-trip/
CATEGORIES:Secondary Campus
END:VEVENT
BEGIN:VEVENT
DTSTART;VALUE=DATE:20241101
DTEND;VALUE=DATE:20241102
DTSTAMP:20260421T085316
CREATED:20240306T225048Z
LAST-MODIFIED:20240306T225048Z
UID:10001726-1730419200-1730505599@myrcs.ca
SUMMARY:SC: Literacy 12
DESCRIPTION:
URL:https://myrcs.ca/event/sc-literacy-12/
CATEGORIES:Secondary Campus
END:VEVENT
BEGIN:VEVENT
DTSTART;VALUE=DATE:20241101
DTEND;VALUE=DATE:20241102
DTSTAMP:20260421T085316
CREATED:20240306T225119Z
LAST-MODIFIED:20240306T225119Z
UID:10001727-1730419200-1730505599@myrcs.ca
SUMMARY:SC: Numeracy 10
DESCRIPTION:
URL:https://myrcs.ca/event/sc-numeracy-10/
CATEGORIES:Secondary Campus
END:VEVENT
BEGIN:VEVENT
DTSTART;VALUE=DATE:20241106
DTEND;VALUE=DATE:20241107
DTSTAMP:20260421T085316
CREATED:20240306T225226Z
LAST-MODIFIED:20240306T225226Z
UID:10001728-1730851200-1730937599@myrcs.ca
SUMMARY:SC: Q1 ends
DESCRIPTION:
URL:https://myrcs.ca/event/sc-q1-ends/
CATEGORIES:Secondary Campus
END:VEVENT
BEGIN:VEVENT
DTSTART;VALUE=DATE:20241112
DTEND;VALUE=DATE:20241113
DTSTAMP:20260421T085316
CREATED:20240306T225316Z
LAST-MODIFIED:20240306T225316Z
UID:10001729-1731369600-1731455999@myrcs.ca
SUMMARY:SC: Q2 begins
DESCRIPTION:
URL:https://myrcs.ca/event/sc-q2-begins/
CATEGORIES:Secondary Campus
END:VEVENT
BEGIN:VEVENT
DTSTART;VALUE=DATE:20241115
DTEND;VALUE=DATE:20241116
DTSTAMP:20260421T085316
CREATED:20240306T225358Z
LAST-MODIFIED:20240306T225358Z
UID:10001730-1731628800-1731715199@myrcs.ca
SUMMARY:SC: Q1 reports published at 3pm
DESCRIPTION:
URL:https://myrcs.ca/event/sc-q1-reports-published-at-3pm/
CATEGORIES:Secondary Campus
END:VEVENT
BEGIN:VEVENT
DTSTART;VALUE=DATE:20241121
DTEND;VALUE=DATE:20241122
DTSTAMP:20260421T085316
CREATED:20240306T225606Z
LAST-MODIFIED:20240306T225606Z
UID:10001732-1732147200-1732233599@myrcs.ca
SUMMARY:SC: Parent Teacher Interviews / 3:30-6pm
DESCRIPTION:
URL:https://myrcs.ca/event/sc-parent-teacher-interviews-330-6pm/
CATEGORIES:Secondary Campus
END:VEVENT
BEGIN:VEVENT
DTSTART;VALUE=DATE:20241122
DTEND;VALUE=DATE:20241123
DTSTAMP:20260421T085316
CREATED:20240306T230117Z
LAST-MODIFIED:20240919T000001Z
UID:10001735-1732233600-1732319999@myrcs.ca
SUMMARY:SC: Parent Teacher Conferences
DESCRIPTION:9am – 4:30pm \nNo School at the SC only
URL:https://myrcs.ca/event/sc-parent-teacher-conferences-8am-4pm/
CATEGORIES:Secondary Campus
END:VEVENT
END:VCALENDAR