BEGIN:VCALENDAR
VERSION:2.0
PRODID:-//Richmond Christian School - ECPv6.15.13//NONSGML v1.0//EN
CALSCALE:GREGORIAN
METHOD:PUBLISH
X-WR-CALNAME:Richmond Christian School
X-ORIGINAL-URL:https://myrcs.ca
X-WR-CALDESC:Events for Richmond Christian School
REFRESH-INTERVAL;VALUE=DURATION:PT1H
X-Robots-Tag:noindex
X-PUBLISHED-TTL:PT1H
BEGIN:VTIMEZONE
TZID:America/Vancouver
BEGIN:DAYLIGHT
TZOFFSETFROM:-0800
TZOFFSETTO:-0700
TZNAME:PDT
DTSTART:20230312T100000
END:DAYLIGHT
BEGIN:STANDARD
TZOFFSETFROM:-0700
TZOFFSETTO:-0800
TZNAME:PST
DTSTART:20231105T090000
END:STANDARD
BEGIN:DAYLIGHT
TZOFFSETFROM:-0800
TZOFFSETTO:-0700
TZNAME:PDT
DTSTART:20240310T100000
END:DAYLIGHT
BEGIN:STANDARD
TZOFFSETFROM:-0700
TZOFFSETTO:-0800
TZNAME:PST
DTSTART:20241103T090000
END:STANDARD
BEGIN:DAYLIGHT
TZOFFSETFROM:-0800
TZOFFSETTO:-0700
TZNAME:PDT
DTSTART:20250309T100000
END:DAYLIGHT
BEGIN:STANDARD
TZOFFSETFROM:-0700
TZOFFSETTO:-0800
TZNAME:PST
DTSTART:20251102T090000
END:STANDARD
BEGIN:DAYLIGHT
TZOFFSETFROM:-0800
TZOFFSETTO:-0700
TZNAME:PDT
DTSTART:20260308T100000
END:DAYLIGHT
BEGIN:STANDARD
TZOFFSETFROM:-0700
TZOFFSETTO:-0800
TZNAME:PST
DTSTART:20261101T090000
END:STANDARD
END:VTIMEZONE
BEGIN:VEVENT
DTSTART;VALUE=DATE:20241101
DTEND;VALUE=DATE:20241102
DTSTAMP:20260420T151213
CREATED:20240306T225119Z
LAST-MODIFIED:20240306T225119Z
UID:10001727-1730419200-1730505599@myrcs.ca
SUMMARY:SC: Numeracy 10
DESCRIPTION:
URL:https://myrcs.ca/event/sc-numeracy-10/
CATEGORIES:Secondary Campus
END:VEVENT
BEGIN:VEVENT
DTSTART;VALUE=DATE:20241106
DTEND;VALUE=DATE:20241107
DTSTAMP:20260420T151213
CREATED:20240306T225226Z
LAST-MODIFIED:20240306T225226Z
UID:10001728-1730851200-1730937599@myrcs.ca
SUMMARY:SC: Q1 ends
DESCRIPTION:
URL:https://myrcs.ca/event/sc-q1-ends/
CATEGORIES:Secondary Campus
END:VEVENT
BEGIN:VEVENT
DTSTART;VALUE=DATE:20241112
DTEND;VALUE=DATE:20241113
DTSTAMP:20260420T151213
CREATED:20240306T225316Z
LAST-MODIFIED:20240306T225316Z
UID:10001729-1731369600-1731455999@myrcs.ca
SUMMARY:SC: Q2 begins
DESCRIPTION:
URL:https://myrcs.ca/event/sc-q2-begins/
CATEGORIES:Secondary Campus
END:VEVENT
BEGIN:VEVENT
DTSTART;VALUE=DATE:20241115
DTEND;VALUE=DATE:20241116
DTSTAMP:20260420T151213
CREATED:20240306T225358Z
LAST-MODIFIED:20240306T225358Z
UID:10001730-1731628800-1731715199@myrcs.ca
SUMMARY:SC: Q1 reports published at 3pm
DESCRIPTION:
URL:https://myrcs.ca/event/sc-q1-reports-published-at-3pm/
CATEGORIES:Secondary Campus
END:VEVENT
BEGIN:VEVENT
DTSTART;VALUE=DATE:20241121
DTEND;VALUE=DATE:20241122
DTSTAMP:20260420T151213
CREATED:20240306T225606Z
LAST-MODIFIED:20240306T225606Z
UID:10001732-1732147200-1732233599@myrcs.ca
SUMMARY:SC: Parent Teacher Interviews / 3:30-6pm
DESCRIPTION:
URL:https://myrcs.ca/event/sc-parent-teacher-interviews-330-6pm/
CATEGORIES:Secondary Campus
END:VEVENT
BEGIN:VEVENT
DTSTART;VALUE=DATE:20241122
DTEND;VALUE=DATE:20241123
DTSTAMP:20260420T151213
CREATED:20240306T230117Z
LAST-MODIFIED:20240919T000001Z
UID:10001735-1732233600-1732319999@myrcs.ca
SUMMARY:SC: Parent Teacher Conferences
DESCRIPTION:9am – 4:30pm \nNo School at the SC only
URL:https://myrcs.ca/event/sc-parent-teacher-conferences-8am-4pm/
CATEGORIES:Secondary Campus
END:VEVENT
BEGIN:VEVENT
DTSTART;VALUE=DATE:20241205
DTEND;VALUE=DATE:20241206
DTSTAMP:20260420T151213
CREATED:20240306T231514Z
LAST-MODIFIED:20240306T231514Z
UID:10001740-1733356800-1733443199@myrcs.ca
SUMMARY:SC: Christmas Concert with the MC
DESCRIPTION:
URL:https://myrcs.ca/event/sc-christmas-concert-with-the-mc/
CATEGORIES:Secondary Campus
END:VEVENT
BEGIN:VEVENT
DTSTART;VALUE=DATE:20241211
DTEND;VALUE=DATE:20241212
DTSTAMP:20260420T151213
CREATED:20240306T232546Z
LAST-MODIFIED:20240306T232546Z
UID:10001742-1733875200-1733961599@myrcs.ca
SUMMARY:SC: Christmas Play
DESCRIPTION:
URL:https://myrcs.ca/event/sc-christmas-play/
CATEGORIES:Secondary Campus
END:VEVENT
BEGIN:VEVENT
DTSTART;VALUE=DATE:20241212
DTEND;VALUE=DATE:20241213
DTSTAMP:20260420T151213
CREATED:20240306T232642Z
LAST-MODIFIED:20240306T232642Z
UID:10001743-1733961600-1734047999@myrcs.ca
SUMMARY:SC: Christmas Play
DESCRIPTION:
URL:https://myrcs.ca/event/sc-christmas-play-2/
CATEGORIES:Secondary Campus
END:VEVENT
BEGIN:VEVENT
DTSTART;VALUE=DATE:20250116
DTEND;VALUE=DATE:20250117
DTSTAMP:20260420T151213
CREATED:20240306T233613Z
LAST-MODIFIED:20241206T225221Z
UID:10001748-1736985600-1737071999@myrcs.ca
SUMMARY:SC: Literacy 10
DESCRIPTION:
URL:https://myrcs.ca/event/sc-literacy-10-2/
CATEGORIES:Secondary Campus
END:VEVENT
BEGIN:VEVENT
DTSTART;VALUE=DATE:20250123
DTEND;VALUE=DATE:20250124
DTSTAMP:20260420T151213
CREATED:20240306T233734Z
LAST-MODIFIED:20240306T233734Z
UID:10001750-1737590400-1737676799@myrcs.ca
SUMMARY:SC: Q2 ends
DESCRIPTION:
URL:https://myrcs.ca/event/sc-q2-ends-3/
CATEGORIES:Secondary Campus
END:VEVENT
BEGIN:VEVENT
DTSTART;VALUE=DATE:20250124
DTEND;VALUE=DATE:20250125
DTSTAMP:20260420T151213
CREATED:20240306T233900Z
LAST-MODIFIED:20240306T234340Z
UID:10001751-1737676800-1737763199@myrcs.ca
SUMMARY:SC: No school at Secondary only
DESCRIPTION:
URL:https://myrcs.ca/event/sc-no-school/
CATEGORIES:Secondary Campus
END:VEVENT
BEGIN:VEVENT
DTSTART;VALUE=DATE:20250127
DTEND;VALUE=DATE:20250128
DTSTAMP:20260420T151213
CREATED:20240306T234434Z
LAST-MODIFIED:20240312T154544Z
UID:10001755-1737936000-1738022399@myrcs.ca
SUMMARY:SC:Q3 begins
DESCRIPTION:
URL:https://myrcs.ca/event/scq3-begins/
CATEGORIES:Secondary Campus
END:VEVENT
BEGIN:VEVENT
DTSTART;VALUE=DATE:20250131
DTEND;VALUE=DATE:20250201
DTSTAMP:20260420T151213
CREATED:20240306T234227Z
LAST-MODIFIED:20240306T234227Z
UID:10001754-1738281600-1738367999@myrcs.ca
SUMMARY:SC: Q2 reports published at 3pm
DESCRIPTION:
URL:https://myrcs.ca/event/sc-q2-reports-published-at-3pm/
CATEGORIES:Secondary Campus
END:VEVENT
BEGIN:VEVENT
DTSTART;VALUE=DATE:20250213
DTEND;VALUE=DATE:20250214
DTSTAMP:20260420T151213
CREATED:20240306T234613Z
LAST-MODIFIED:20240306T234613Z
UID:10001756-1739404800-1739491199@myrcs.ca
SUMMARY:SC: Parent Teacher Conferences / 3:30-6pm
DESCRIPTION:
URL:https://myrcs.ca/event/sc-parent-teacher-conferences-330-6pm/
CATEGORIES:Secondary Campus
END:VEVENT
BEGIN:VEVENT
DTSTART;VALUE=DATE:20250214
DTEND;VALUE=DATE:20250215
DTSTAMP:20260420T151213
CREATED:20240306T234922Z
LAST-MODIFIED:20241206T225318Z
UID:10001758-1739491200-1739577599@myrcs.ca
SUMMARY:SC: Parent Teacher Interviews / 9am - 4:30pm / No school
DESCRIPTION:
URL:https://myrcs.ca/event/sc-parent-teacher-interviews-830am-4pm-no-school/
CATEGORIES:Secondary Campus
END:VEVENT
BEGIN:VEVENT
DTSTART;VALUE=DATE:20250219
DTEND;VALUE=DATE:20250220
DTSTAMP:20260420T151213
CREATED:20250218T102139Z
LAST-MODIFIED:20250218T103620Z
UID:10001818-1739923200-1740009599@myrcs.ca
SUMMARY:SC: Language Placement & Challenge at 3:30pm
DESCRIPTION:
URL:https://myrcs.ca/event/330pm-sc-language-placement-challenge/
CATEGORIES:Secondary Campus
END:VEVENT
BEGIN:VEVENT
DTSTART;VALUE=DATE:20250220
DTEND;VALUE=DATE:20250221
DTSTAMP:20260420T151213
CREATED:20250218T102228Z
LAST-MODIFIED:20250218T103644Z
UID:10001819-1740009600-1740095999@myrcs.ca
SUMMARY:SC: Sr. Course Selection at 7pm
DESCRIPTION:
URL:https://myrcs.ca/event/sc-sr-course-selection-at-7pm/
CATEGORIES:Secondary Campus
END:VEVENT
BEGIN:VEVENT
DTSTART;VALUE=DATE:20250404
DTEND;VALUE=DATE:20250415
DTSTAMP:20260420T151213
CREATED:20240306T235949Z
LAST-MODIFIED:20241007T151008Z
UID:10001769-1743724800-1744675199@myrcs.ca
SUMMARY:SC: Service Learning Trip / Gr 11/12
DESCRIPTION:
URL:https://myrcs.ca/event/sc-service-learning-trip-gr-11-12/
CATEGORIES:Secondary Campus
END:VEVENT
BEGIN:VEVENT
DTSTART;VALUE=DATE:20250409
DTEND;VALUE=DATE:20250412
DTSTAMP:20260420T151213
CREATED:20240307T000028Z
LAST-MODIFIED:20240307T000028Z
UID:10001770-1744156800-1744415999@myrcs.ca
SUMMARY:SC: Camp Jubilee / G9
DESCRIPTION:
URL:https://myrcs.ca/event/sc-camp-jubilee-g9/
CATEGORIES:Secondary Campus
END:VEVENT
BEGIN:VEVENT
DTSTART;VALUE=DATE:20250409
DTEND;VALUE=DATE:20250412
DTSTAMP:20260420T151213
CREATED:20240307T000558Z
LAST-MODIFIED:20240307T000558Z
UID:10001775-1744156800-1744415999@myrcs.ca
SUMMARY:SC: Indigenous Learning / G10
DESCRIPTION:
URL:https://myrcs.ca/event/sc-indigenous-learning-g10/
CATEGORIES:Secondary Campus
END:VEVENT
BEGIN:VEVENT
DTSTART;VALUE=DATE:20250411
DTEND;VALUE=DATE:20250412
DTSTAMP:20260420T151213
CREATED:20240307T000150Z
LAST-MODIFIED:20240307T000150Z
UID:10001772-1744329600-1744415999@myrcs.ca
SUMMARY:SC: Q3 ends
DESCRIPTION:
URL:https://myrcs.ca/event/sc-q3-ends/
CATEGORIES:Secondary Campus
END:VEVENT
BEGIN:VEVENT
DTSTART;VALUE=DATE:20250414
DTEND;VALUE=DATE:20250415
DTSTAMP:20260420T151213
CREATED:20240311T174130Z
LAST-MODIFIED:20240311T174130Z
UID:10001794-1744588800-1744675199@myrcs.ca
SUMMARY:SC: Q4 begins
DESCRIPTION:
URL:https://myrcs.ca/event/sc-q4-begins/
CATEGORIES:Secondary Campus
END:VEVENT
BEGIN:VEVENT
DTSTART;VALUE=DATE:20250430
DTEND;VALUE=DATE:20250501
DTSTAMP:20260420T151213
CREATED:20250218T113858Z
LAST-MODIFIED:20250218T113858Z
UID:10001826-1745971200-1746057599@myrcs.ca
SUMMARY:SC: Q3 Reports published at 3pm
DESCRIPTION:
URL:https://myrcs.ca/event/sc-q3-reports-published-at-3pm-2/
CATEGORIES:Secondary Campus
END:VEVENT
BEGIN:VEVENT
DTSTART;VALUE=DATE:20250512
DTEND;VALUE=DATE:20250513
DTSTAMP:20260420T151213
CREATED:20250218T114509Z
LAST-MODIFIED:20250218T114544Z
UID:10001830-1747008000-1747094399@myrcs.ca
SUMMARY:SC: Gr 9 Immunizations
DESCRIPTION:This is for the students that missed the November 2024 immunization date – Makeup date
URL:https://myrcs.ca/event/sc-gr-9-immunizations/
CATEGORIES:Secondary Campus
END:VEVENT
BEGIN:VEVENT
DTSTART;VALUE=DATE:20250521
DTEND;VALUE=DATE:20250522
DTSTAMP:20260420T151213
CREATED:20250428T201459Z
LAST-MODIFIED:20250428T201459Z
UID:10001851-1747785600-1747871999@myrcs.ca
SUMMARY:SC: Anne of Green Gables at 7pm
DESCRIPTION:
URL:https://myrcs.ca/event/sc-anne-of-green-gables-at-7pm/
CATEGORIES:Secondary Campus
END:VEVENT
BEGIN:VEVENT
DTSTART;VALUE=DATE:20250522
DTEND;VALUE=DATE:20250523
DTSTAMP:20260420T151213
CREATED:20250428T201525Z
LAST-MODIFIED:20250428T201710Z
UID:10001852-1747872000-1747958399@myrcs.ca
SUMMARY:SC: Anne of Green Gables at 7pm
DESCRIPTION:
URL:https://myrcs.ca/event/sc-anne-of-green-gables-at-7pm-2/
CATEGORIES:Secondary Campus
END:VEVENT
BEGIN:VEVENT
DTSTART;VALUE=DATE:20250523
DTEND;VALUE=DATE:20250524
DTSTAMP:20260420T151213
CREATED:20250428T201556Z
LAST-MODIFIED:20250428T201556Z
UID:10001853-1747958400-1748044799@myrcs.ca
SUMMARY:SC: Anne of Green Gables at 7pm
DESCRIPTION:
URL:https://myrcs.ca/event/sc-anne-of-green-gables-at-7pm-3/
CATEGORIES:Secondary Campus
END:VEVENT
BEGIN:VEVENT
DTSTART;VALUE=DATE:20250604
DTEND;VALUE=DATE:20250605
DTSTAMP:20260420T151213
CREATED:20240307T001119Z
LAST-MODIFIED:20250526T223459Z
UID:10001781-1748995200-1749081599@myrcs.ca
SUMMARY:SC: Fine Arts Evening at 6:30pm
DESCRIPTION:
URL:https://myrcs.ca/event/sc-fine-arts-evening/
CATEGORIES:Secondary Campus
END:VEVENT
BEGIN:VEVENT
DTSTART;VALUE=DATE:20250606
DTEND;VALUE=DATE:20250607
DTSTAMP:20260420T151213
CREATED:20240307T002248Z
LAST-MODIFIED:20240917T174429Z
UID:10001793-1749168000-1749254399@myrcs.ca
SUMMARY:SC: Boat Cruise
DESCRIPTION:
URL:https://myrcs.ca/event/sc-boat-cruise-2/
CATEGORIES:Secondary Campus
END:VEVENT
END:VCALENDAR