BEGIN:VCALENDAR
VERSION:2.0
PRODID:-//Richmond Christian School - ECPv6.15.13//NONSGML v1.0//EN
CALSCALE:GREGORIAN
METHOD:PUBLISH
X-ORIGINAL-URL:https://myrcs.ca
X-WR-CALDESC:Events for Richmond Christian School
REFRESH-INTERVAL;VALUE=DURATION:PT1H
X-Robots-Tag:noindex
X-PUBLISHED-TTL:PT1H
BEGIN:VTIMEZONE
TZID:America/Vancouver
BEGIN:DAYLIGHT
TZOFFSETFROM:-0800
TZOFFSETTO:-0700
TZNAME:PDT
DTSTART:20220313T100000
END:DAYLIGHT
BEGIN:STANDARD
TZOFFSETFROM:-0700
TZOFFSETTO:-0800
TZNAME:PST
DTSTART:20221106T090000
END:STANDARD
BEGIN:DAYLIGHT
TZOFFSETFROM:-0800
TZOFFSETTO:-0700
TZNAME:PDT
DTSTART:20230312T100000
END:DAYLIGHT
BEGIN:STANDARD
TZOFFSETFROM:-0700
TZOFFSETTO:-0800
TZNAME:PST
DTSTART:20231105T090000
END:STANDARD
BEGIN:DAYLIGHT
TZOFFSETFROM:-0800
TZOFFSETTO:-0700
TZNAME:PDT
DTSTART:20240310T100000
END:DAYLIGHT
BEGIN:STANDARD
TZOFFSETFROM:-0700
TZOFFSETTO:-0800
TZNAME:PST
DTSTART:20241103T090000
END:STANDARD
END:VTIMEZONE
BEGIN:VEVENT
DTSTART;VALUE=DATE:20230131
DTEND;VALUE=DATE:20230201
DTSTAMP:20260419T163752
CREATED:20220916T170953Z
LAST-MODIFIED:20220916T170953Z
UID:10000942-1675123200-1675209599@myrcs.ca
SUMMARY:MC: G8  Mount Seymour
DESCRIPTION:
URL:https://myrcs.ca/event/mc-g8-mount-seymour-2/
CATEGORIES:Middle Campus
END:VEVENT
BEGIN:VEVENT
DTSTART;VALUE=DATE:20230201
DTEND;VALUE=DATE:20230204
DTSTAMP:20260419T163752
CREATED:20220606T193948Z
LAST-MODIFIED:20220606T193948Z
UID:10001403-1675209600-1675468799@myrcs.ca
SUMMARY:MC: Theme Days
DESCRIPTION:
URL:https://myrcs.ca/event/mc-theme-days/
CATEGORIES:Middle Campus
END:VEVENT
BEGIN:VEVENT
DTSTART;TZID=America/Vancouver:20230203T150000
DTEND;TZID=America/Vancouver:20230203T150000
DTSTAMP:20260419T163752
CREATED:20220606T194116Z
LAST-MODIFIED:20220606T194116Z
UID:10001425-1675436400-1675436400@myrcs.ca
SUMMARY:SC: Q2 reports published(3pm)
DESCRIPTION:
URL:https://myrcs.ca/event/sc-q2-reports-published3pm/
CATEGORIES:Secondary Campus
END:VEVENT
END:VCALENDAR