BEGIN:VCALENDAR
VERSION:2.0
PRODID:-//Richmond Christian School - ECPv6.15.13//NONSGML v1.0//EN
CALSCALE:GREGORIAN
METHOD:PUBLISH
X-WR-CALNAME:Richmond Christian School
X-ORIGINAL-URL:https://myrcs.ca
X-WR-CALDESC:Events for Richmond Christian School
REFRESH-INTERVAL;VALUE=DURATION:PT1H
X-Robots-Tag:noindex
X-PUBLISHED-TTL:PT1H
BEGIN:VTIMEZONE
TZID:America/Vancouver
BEGIN:DAYLIGHT
TZOFFSETFROM:-0800
TZOFFSETTO:-0700
TZNAME:PDT
DTSTART:20230312T100000
END:DAYLIGHT
BEGIN:STANDARD
TZOFFSETFROM:-0700
TZOFFSETTO:-0800
TZNAME:PST
DTSTART:20231105T090000
END:STANDARD
BEGIN:DAYLIGHT
TZOFFSETFROM:-0800
TZOFFSETTO:-0700
TZNAME:PDT
DTSTART:20240310T100000
END:DAYLIGHT
BEGIN:STANDARD
TZOFFSETFROM:-0700
TZOFFSETTO:-0800
TZNAME:PST
DTSTART:20241103T090000
END:STANDARD
BEGIN:DAYLIGHT
TZOFFSETFROM:-0800
TZOFFSETTO:-0700
TZNAME:PDT
DTSTART:20250309T100000
END:DAYLIGHT
BEGIN:STANDARD
TZOFFSETFROM:-0700
TZOFFSETTO:-0800
TZNAME:PST
DTSTART:20251102T090000
END:STANDARD
END:VTIMEZONE
BEGIN:VEVENT
DTSTART;VALUE=DATE:20240226
DTEND;VALUE=DATE:20240227
DTSTAMP:20260421T014312
CREATED:20230501T194752Z
LAST-MODIFIED:20230501T194752Z
UID:10001528-1708905600-1708991999@myrcs.ca
SUMMARY:BOARD MEETING
DESCRIPTION:
URL:https://myrcs.ca/event/board-meeting-63/
CATEGORIES:All Campus
END:VEVENT
BEGIN:VEVENT
DTSTART;VALUE=DATE:20240228
DTEND;VALUE=DATE:20240229
DTSTAMP:20260421T014312
CREATED:20230619T192522Z
LAST-MODIFIED:20240127T001149Z
UID:10001606-1709078400-1709164799@myrcs.ca
SUMMARY:Pink Shirt Day
DESCRIPTION:
URL:https://myrcs.ca/event/pink-shirt-day-3/
CATEGORIES:All Campus
END:VEVENT
BEGIN:VEVENT
DTSTART;VALUE=DATE:20240229
DTEND;VALUE=DATE:20240301
DTSTAMP:20260421T014312
CREATED:20240122T230118Z
LAST-MODIFIED:20240123T212026Z
UID:10001698-1709164800-1709251199@myrcs.ca
SUMMARY:SC: Gr 11/12 Course Selection Night 7pm
DESCRIPTION:
URL:https://myrcs.ca/event/sc-gr-11-12-course-selection-night/
CATEGORIES:Secondary Campus
END:VEVENT
END:VCALENDAR