BEGIN:VCALENDAR
VERSION:2.0
PRODID:-//Richmond Christian School - ECPv6.15.13//NONSGML v1.0//EN
CALSCALE:GREGORIAN
METHOD:PUBLISH
X-ORIGINAL-URL:https://myrcs.ca
X-WR-CALDESC:Events for Richmond Christian School
REFRESH-INTERVAL;VALUE=DURATION:PT1H
X-Robots-Tag:noindex
X-PUBLISHED-TTL:PT1H
BEGIN:VTIMEZONE
TZID:America/Vancouver
BEGIN:DAYLIGHT
TZOFFSETFROM:-0800
TZOFFSETTO:-0700
TZNAME:PDT
DTSTART:20240310T100000
END:DAYLIGHT
BEGIN:STANDARD
TZOFFSETFROM:-0700
TZOFFSETTO:-0800
TZNAME:PST
DTSTART:20241103T090000
END:STANDARD
BEGIN:DAYLIGHT
TZOFFSETFROM:-0800
TZOFFSETTO:-0700
TZNAME:PDT
DTSTART:20250309T100000
END:DAYLIGHT
BEGIN:STANDARD
TZOFFSETFROM:-0700
TZOFFSETTO:-0800
TZNAME:PST
DTSTART:20251102T090000
END:STANDARD
BEGIN:DAYLIGHT
TZOFFSETFROM:-0800
TZOFFSETTO:-0700
TZNAME:PDT
DTSTART:20260308T100000
END:DAYLIGHT
BEGIN:STANDARD
TZOFFSETFROM:-0700
TZOFFSETTO:-0800
TZNAME:PST
DTSTART:20261101T090000
END:STANDARD
END:VTIMEZONE
BEGIN:VEVENT
DTSTART;VALUE=DATE:20250929
DTEND;VALUE=DATE:20250930
DTSTAMP:20260422T044250
CREATED:20250922T163335Z
LAST-MODIFIED:20250922T163335Z
UID:10001979-1759104000-1759190399@myrcs.ca
SUMMARY:Orange Shirt Day (All Campus)
DESCRIPTION:
URL:https://myrcs.ca/event/orange-shirt-day-all-campus/
CATEGORIES:All Campus
END:VEVENT
BEGIN:VEVENT
DTSTART;VALUE=DATE:20250930
DTEND;VALUE=DATE:20251001
DTSTAMP:20260422T044250
CREATED:20250422T172331Z
LAST-MODIFIED:20250422T172331Z
UID:10001837-1759190400-1759276799@myrcs.ca
SUMMARY:Truth and Reconciliation Day (no school)
DESCRIPTION:
URL:https://myrcs.ca/event/truth-and-reconciliation-day-no-school-4/
CATEGORIES:All Campus
END:VEVENT
BEGIN:VEVENT
DTSTART;VALUE=DATE:20251002
DTEND;VALUE=DATE:20251003
DTSTAMP:20260422T044250
CREATED:20250820T191631Z
LAST-MODIFIED:20250820T191924Z
UID:10001970-1759363200-1759449599@myrcs.ca
SUMMARY:SC: Parent Learning Series (7-8pm)
DESCRIPTION:Parenting in the Digital Age with Well-Being expert Christina Crook
URL:https://myrcs.ca/event/sc-parent-learning-series-7-83pm/
CATEGORIES:Secondary Campus
END:VEVENT
BEGIN:VEVENT
DTSTART;VALUE=DATE:20251002
DTEND;VALUE=DATE:20251003
DTSTAMP:20260422T044250
CREATED:20250917T183424Z
LAST-MODIFIED:20250917T183718Z
UID:10001978-1759363200-1759449599@myrcs.ca
SUMMARY:MC: Parent Learning Series (7-8pm)
DESCRIPTION:Parenting in the Digital Age with Well-Being expert Christina Crook \nAt the Secondary Campus
URL:https://myrcs.ca/event/mc-parent-learning-series-at-the-sc-7-8pm/
CATEGORIES:Middle Campus
END:VEVENT
END:VCALENDAR